BEGIN:VCALENDAR
VERSION:2.0
PRODID:-//DFW Meditation Group of SRF - ECPv6.15.20//NONSGML v1.0//EN
CALSCALE:GREGORIAN
METHOD:PUBLISH
X-ORIGINAL-URL:https://srfdfw.org
X-WR-CALDESC:Events for DFW Meditation Group of SRF
REFRESH-INTERVAL;VALUE=DURATION:PT1H
X-Robots-Tag:noindex
X-PUBLISHED-TTL:PT1H
BEGIN:VTIMEZONE
TZID:America/Chicago
BEGIN:DAYLIGHT
TZOFFSETFROM:-0600
TZOFFSETTO:-0500
TZNAME:CDT
DTSTART:20230312T080000
END:DAYLIGHT
BEGIN:STANDARD
TZOFFSETFROM:-0500
TZOFFSETTO:-0600
TZNAME:CST
DTSTART:20231105T070000
END:STANDARD
BEGIN:DAYLIGHT
TZOFFSETFROM:-0600
TZOFFSETTO:-0500
TZNAME:CDT
DTSTART:20240310T080000
END:DAYLIGHT
BEGIN:STANDARD
TZOFFSETFROM:-0500
TZOFFSETTO:-0600
TZNAME:CST
DTSTART:20241103T070000
END:STANDARD
BEGIN:DAYLIGHT
TZOFFSETFROM:-0600
TZOFFSETTO:-0500
TZNAME:CDT
DTSTART:20250309T080000
END:DAYLIGHT
BEGIN:STANDARD
TZOFFSETFROM:-0500
TZOFFSETTO:-0600
TZNAME:CST
DTSTART:20251102T070000
END:STANDARD
END:VTIMEZONE
BEGIN:VEVENT
DTSTART;TZID=America/Chicago:20241214T100000
DTEND;TZID=America/Chicago:20241214T170000
DTSTAMP:20260422T092942
CREATED:20221024T170255Z
LAST-MODIFIED:20241128T220946Z
UID:10001878-1734170400-1734195600@srfdfw.org
SUMMARY:Christmas All Day Meditation 10 am to 5 pm
DESCRIPTION:Paramahansa Yogananda inaugurated the custom of holding an all-day meditation service during the Christmas season to foster communion with the Christ Consciousness\, which he said constitutes the true celebration of Christmas. \nPlease visit the DFW All Day Christmas Meditation page to review this important information to get the most out of this special day– \n\nAttendance Guidelines\nHow to Prepare\nWhat to Bring\n\n 
URL:https://srfdfw.org/calendar/christmas-all-day-meditation-10-am-to-6-pm/
LOCATION:2011 North Britain Road\, Irving\, TX\, 2011 N. Britain Rd.\, Irving\, TX\, 76051\, United States
ORGANIZER;CN="DFW-SRF Meditation Group":MAILTO:connect@srfdallasfortworth.org
END:VEVENT
END:VCALENDAR