BEGIN:VCALENDAR
VERSION:2.0
PRODID:-//DFW Meditation Group of SRF - ECPv6.15.20//NONSGML v1.0//EN
CALSCALE:GREGORIAN
METHOD:PUBLISH
X-WR-CALNAME:DFW Meditation Group of SRF
X-ORIGINAL-URL:https://srfdfw.org
X-WR-CALDESC:Events for DFW Meditation Group of SRF
REFRESH-INTERVAL;VALUE=DURATION:PT1H
X-Robots-Tag:noindex
X-PUBLISHED-TTL:PT1H
BEGIN:VTIMEZONE
TZID:America/Chicago
BEGIN:DAYLIGHT
TZOFFSETFROM:-0600
TZOFFSETTO:-0500
TZNAME:CDT
DTSTART:20240310T080000
END:DAYLIGHT
BEGIN:STANDARD
TZOFFSETFROM:-0500
TZOFFSETTO:-0600
TZNAME:CST
DTSTART:20241103T070000
END:STANDARD
BEGIN:DAYLIGHT
TZOFFSETFROM:-0600
TZOFFSETTO:-0500
TZNAME:CDT
DTSTART:20250309T080000
END:DAYLIGHT
BEGIN:STANDARD
TZOFFSETFROM:-0500
TZOFFSETTO:-0600
TZNAME:CST
DTSTART:20251102T070000
END:STANDARD
BEGIN:DAYLIGHT
TZOFFSETFROM:-0600
TZOFFSETTO:-0500
TZNAME:CDT
DTSTART:20260308T080000
END:DAYLIGHT
BEGIN:STANDARD
TZOFFSETFROM:-0500
TZOFFSETTO:-0600
TZNAME:CST
DTSTART:20261101T070000
END:STANDARD
END:VTIMEZONE
BEGIN:VEVENT
DTSTART;TZID=America/Chicago:20250308T100000
DTEND;TZID=America/Chicago:20250308T160000
DTSTAMP:20260422T012930
CREATED:20250204T173701Z
LAST-MODIFIED:20250205T201230Z
UID:10002081-1741428000-1741449600@srfdfw.org
SUMMARY:Paramahansa Yogananda & Swami Sri. Yukteswar Commemorative 6 Hour Meditation Monastic Led
DESCRIPTION:We warmly invite you to join us for a six-hour meditation honoring the mahasamadhis of Paramahansa Yogananda and Swami Sri Yukteswar\, led by an SRF monastic in English. Our livestream begins at 10:00 am. If you wish to do the EEs please do them in India Hall before 10:00 am. \nThe first half begins with group practice of the Energization Exercises\, followed by an opening prayer\, inspirational readings\, devotional chanting\, and periods of silent meditation lasting about 30-50 minutes each. After a thirty-minute intermission\, the meditation service will continue with periods of devotional chanting and silent meditation. The service concludes with the practice of Paramahansa Yogananda’s healing technique and a closing prayer.
URL:https://srfdfw.org/calendar/paramahansa-yogananda-swami-sri-yukteswar-commemorative-6-hour-meditation-monastic-led/
LOCATION:2011 North Britain Road\, Irving\, TX\, 2011 N. Britain Rd.\, Irving\, TX\, 76051\, United States
ORGANIZER;CN="DFW-SRF Meditation Group":MAILTO:connect@srfdallasfortworth.org
END:VEVENT
END:VCALENDAR