BEGIN:VCALENDAR
VERSION:2.0
PRODID:-//DFW Meditation Group of SRF - ECPv6.15.20//NONSGML v1.0//EN
CALSCALE:GREGORIAN
METHOD:PUBLISH
X-WR-CALNAME:DFW Meditation Group of SRF
X-ORIGINAL-URL:https://srfdfw.org
X-WR-CALDESC:Events for DFW Meditation Group of SRF
REFRESH-INTERVAL;VALUE=DURATION:PT1H
X-Robots-Tag:noindex
X-PUBLISHED-TTL:PT1H
BEGIN:VTIMEZONE
TZID:America/Chicago
BEGIN:DAYLIGHT
TZOFFSETFROM:-0600
TZOFFSETTO:-0500
TZNAME:CDT
DTSTART:20240310T080000
END:DAYLIGHT
BEGIN:STANDARD
TZOFFSETFROM:-0500
TZOFFSETTO:-0600
TZNAME:CST
DTSTART:20241103T070000
END:STANDARD
BEGIN:DAYLIGHT
TZOFFSETFROM:-0600
TZOFFSETTO:-0500
TZNAME:CDT
DTSTART:20250309T080000
END:DAYLIGHT
BEGIN:STANDARD
TZOFFSETFROM:-0500
TZOFFSETTO:-0600
TZNAME:CST
DTSTART:20251102T070000
END:STANDARD
BEGIN:DAYLIGHT
TZOFFSETFROM:-0600
TZOFFSETTO:-0500
TZNAME:CDT
DTSTART:20260308T080000
END:DAYLIGHT
BEGIN:STANDARD
TZOFFSETFROM:-0500
TZOFFSETTO:-0600
TZNAME:CST
DTSTART:20261101T070000
END:STANDARD
END:VTIMEZONE
BEGIN:VEVENT
DTSTART;TZID=America/Chicago:20250330T100000
DTEND;TZID=America/Chicago:20250330T104500
DTSTAMP:20260422T030407
CREATED:20220711T161139Z
LAST-MODIFIED:20250222T174412Z
UID:10001147-1743328800-1743331500@srfdfw.org
SUMMARY:Sunday Meditation Service
DESCRIPTION:Our meditation service is devoted to silent meditation. There is a short inspirational message at the beginning followed by a chant\, then meditation. We also include the World Wide Prayer Circle of SRF members and friends where we pray for world peace and for those who have requested\, physical\, mental\, or spiritual healing.
URL:https://srfdfw.org/calendar/meditation-service-reading-service/2025-03-30/
LOCATION:DFW Meditation Group\, 2011 N. Britain Rd.\, Irving\, TX\, 76051\, United States
ORGANIZER;CN="DFW-SRF Meditation Group":MAILTO:connect@srfdallasfortworth.org
GEO:32.8347664;-96.9448622
X-APPLE-STRUCTURED-LOCATION;VALUE=URI;X-ADDRESS=DFW Meditation Group 2011 N. Britain Rd. Irving TX 76051 United States;X-APPLE-RADIUS=500;X-TITLE=2011 N. Britain Rd.:geo:-96.9448622,32.8347664
END:VEVENT
BEGIN:VEVENT
DTSTART;TZID=America/Chicago:20250330T110000
DTEND;TZID=America/Chicago:20250330T120000
DTSTAMP:20260422T030407
CREATED:20241128T222515Z
LAST-MODIFIED:20260211T212637Z
UID:10001408-1743332400-1743336000@srfdfw.org
SUMMARY:Sunday Reading Service
DESCRIPTION:The Readings Service includes periods of meditation\, inspirational reading of topics by Paramahansa Yogananda\, and chanting. We also include the World Wide Prayer Circle of SRF members and friends where we pray for world peace and for those who have requested\, physical\, mental\, or spiritual healing.
URL:https://srfdfw.org/calendar/readings-service-2-2/2025-03-30/
LOCATION:DFW Meditation Group\, 2011 N. Britain Rd.\, Irving\, TX\, 76051\, United States
ORGANIZER;CN="DFW-SRF Meditation Group":MAILTO:connect@srfdallasfortworth.org
GEO:32.8347664;-96.9448622
X-APPLE-STRUCTURED-LOCATION;VALUE=URI;X-ADDRESS=DFW Meditation Group 2011 N. Britain Rd. Irving TX 76051 United States;X-APPLE-RADIUS=500;X-TITLE=2011 N. Britain Rd.:geo:-96.9448622,32.8347664
END:VEVENT
BEGIN:VEVENT
DTSTART;TZID=America/Chicago:20250330T110000
DTEND;TZID=America/Chicago:20250330T120000
DTSTAMP:20260422T030407
CREATED:20241128T222907Z
LAST-MODIFIED:20251126T153811Z
UID:10001669-1743332400-1743336000@srfdfw.org
SUMMARY:Sunday School
DESCRIPTION:
URL:https://srfdfw.org/calendar/sunday-school-1100-am-2/2025-03-30/
LOCATION:2011 North Britain Road\, Irving\, TX\, 2011 N. Britain Rd.\, Irving\, TX\, 76051\, United States
ORGANIZER;CN="DFW-SRF Meditation Group":MAILTO:connect@srfdallasfortworth.org
END:VEVENT
BEGIN:VEVENT
DTSTART;TZID=America/Chicago:20250330T120000
DTEND;TZID=America/Chicago:20250330T133000
DTSTAMP:20260422T030407
CREATED:20150315T042458Z
LAST-MODIFIED:20260218T220252Z
UID:10002093-1743336000-1743341400@srfdfw.org
SUMMARY:12 NoonSpring Celebration Social
DESCRIPTION:We will have a special vegetarian food social in celebration of the gift of everyone’s  service to this group and the worldwide spiritual work of SRF. This will be a very fun and festive event and everyone is invited as our group’s way of collectively saying Thank You for your contribution via your meditation\, donations\, and overall support of this group and Master’s work. Food and drinks will be provided. Everyone is invited to attend.
URL:https://srfdfw.org/calendar/pot-luck-social-2017-04-03/2025-03-30/
LOCATION:DFW-SRF Meditation Group Location\, 2011 N. Britain Rd.\, Irving\, TX\, 76051\, United States
ORGANIZER;CN="DFW-SRF Meditation Group":MAILTO:connect@srfdallasfortworth.org
GEO:32.8347664;-96.9448622
X-APPLE-STRUCTURED-LOCATION;VALUE=URI;X-ADDRESS=DFW-SRF Meditation Group Location 2011 N. Britain Rd. Irving TX 76051 United States;X-APPLE-RADIUS=500;X-TITLE=2011 N. Britain Rd.:geo:-96.9448622,32.8347664
END:VEVENT
END:VCALENDAR