BEGIN:VCALENDAR
VERSION:2.0
PRODID:-//DFW Meditation Group of SRF - ECPv6.15.20//NONSGML v1.0//EN
CALSCALE:GREGORIAN
METHOD:PUBLISH
X-WR-CALNAME:DFW Meditation Group of SRF
X-ORIGINAL-URL:https://srfdfw.org
X-WR-CALDESC:Events for DFW Meditation Group of SRF
REFRESH-INTERVAL;VALUE=DURATION:PT1H
X-Robots-Tag:noindex
X-PUBLISHED-TTL:PT1H
BEGIN:VTIMEZONE
TZID:America/Chicago
BEGIN:DAYLIGHT
TZOFFSETFROM:-0600
TZOFFSETTO:-0500
TZNAME:CDT
DTSTART:20240310T080000
END:DAYLIGHT
BEGIN:STANDARD
TZOFFSETFROM:-0500
TZOFFSETTO:-0600
TZNAME:CST
DTSTART:20241103T070000
END:STANDARD
BEGIN:DAYLIGHT
TZOFFSETFROM:-0600
TZOFFSETTO:-0500
TZNAME:CDT
DTSTART:20250309T080000
END:DAYLIGHT
BEGIN:STANDARD
TZOFFSETFROM:-0500
TZOFFSETTO:-0600
TZNAME:CST
DTSTART:20251102T070000
END:STANDARD
BEGIN:DAYLIGHT
TZOFFSETFROM:-0600
TZOFFSETTO:-0500
TZNAME:CDT
DTSTART:20260308T080000
END:DAYLIGHT
BEGIN:STANDARD
TZOFFSETFROM:-0500
TZOFFSETTO:-0600
TZNAME:CST
DTSTART:20261101T070000
END:STANDARD
END:VTIMEZONE
BEGIN:VEVENT
DTSTART;TZID=America/Chicago:20250725T200000
DTEND;TZID=America/Chicago:20250725T210000
DTSTAMP:20260422T092846
CREATED:20230715T150004Z
LAST-MODIFIED:20250623T130826Z
UID:10002124-1753473600-1753477200@srfdfw.org
SUMMARY:8 pm Babaji Commemoration Service
DESCRIPTION:This service honors Mahavatar Babaji who revived the ancient science of Kriya Yoga. The chapel will be open one half hour before the service begins. \nCommemoration services for the SRF gurus are deeply spiritual occasions. Please bring a flower offering as a symbol of devotion to God and Paramahansa Yogananda. Please do not smell the flower but save its fragrance as part of the gift meant for God.\nPlease also bring a donation in a sealed envelope as a symbol of loyalty and faithfulness to the cause of SRF. Your donation will be used by SRF for sharing the sacred teachings of Self-Realization Fellowship with other truth seekers.
URL:https://srfdfw.org/calendar/babaji-commemoration-service/2025-07-25/
LOCATION:2011 North Britain Road\, Irving\, TX\, 2011 N. Britain Rd.\, Irving\, TX\, 76051\, United States
ORGANIZER;CN="DFW-SRF Meditation Group":MAILTO:connect@srfdallasfortworth.org
END:VEVENT
END:VCALENDAR