BEGIN:VCALENDAR
VERSION:2.0
PRODID:-//DFW Meditation Group of SRF - ECPv6.15.20//NONSGML v1.0//EN
CALSCALE:GREGORIAN
METHOD:PUBLISH
X-ORIGINAL-URL:https://srfdfw.org
X-WR-CALDESC:Events for DFW Meditation Group of SRF
REFRESH-INTERVAL;VALUE=DURATION:PT1H
X-Robots-Tag:noindex
X-PUBLISHED-TTL:PT1H
BEGIN:VTIMEZONE
TZID:America/Chicago
BEGIN:DAYLIGHT
TZOFFSETFROM:-0600
TZOFFSETTO:-0500
TZNAME:CDT
DTSTART:20290311T080000
END:DAYLIGHT
BEGIN:STANDARD
TZOFFSETFROM:-0500
TZOFFSETTO:-0600
TZNAME:CST
DTSTART:20291104T070000
END:STANDARD
BEGIN:DAYLIGHT
TZOFFSETFROM:-0600
TZOFFSETTO:-0500
TZNAME:CDT
DTSTART:20300310T080000
END:DAYLIGHT
BEGIN:STANDARD
TZOFFSETFROM:-0500
TZOFFSETTO:-0600
TZNAME:CST
DTSTART:20301103T070000
END:STANDARD
BEGIN:DAYLIGHT
TZOFFSETFROM:-0600
TZOFFSETTO:-0500
TZNAME:CDT
DTSTART:20310309T080000
END:DAYLIGHT
BEGIN:STANDARD
TZOFFSETFROM:-0500
TZOFFSETTO:-0600
TZNAME:CST
DTSTART:20311102T070000
END:STANDARD
END:VTIMEZONE
BEGIN:VEVENT
DTSTART;TZID=America/Chicago:20300908T110000
DTEND;TZID=America/Chicago:20300908T120000
DTSTAMP:20260425T202057
CREATED:20241128T222515Z
LAST-MODIFIED:20260211T212637Z
UID:10002570-1915095600-1915099200@srfdfw.org
SUMMARY:Sunday Reading Service
DESCRIPTION:The Readings Service includes periods of meditation\, inspirational reading of topics by Paramahansa Yogananda\, and chanting. We also include the World Wide Prayer Circle of SRF members and friends where we pray for world peace and for those who have requested\, physical\, mental\, or spiritual healing.
URL:https://srfdfw.org/calendar/readings-service-2-2/2030-09-08/
LOCATION:DFW Meditation Group\, 2011 N. Britain Rd.\, Irving\, TX\, 76051\, United States
ORGANIZER;CN="DFW-SRF Meditation Group":MAILTO:connect@srfdallasfortworth.org
GEO:32.8347664;-96.9448622
X-APPLE-STRUCTURED-LOCATION;VALUE=URI;X-ADDRESS=DFW Meditation Group 2011 N. Britain Rd. Irving TX 76051 United States;X-APPLE-RADIUS=500;X-TITLE=2011 N. Britain Rd.:geo:-96.9448622,32.8347664
END:VEVENT
BEGIN:VEVENT
DTSTART;TZID=America/Chicago:20300908T110000
DTEND;TZID=America/Chicago:20300908T120000
DTSTAMP:20260425T202057
CREATED:20241128T222907Z
LAST-MODIFIED:20251126T153811Z
UID:10002516-1915095600-1915099200@srfdfw.org
SUMMARY:Sunday School
DESCRIPTION:
URL:https://srfdfw.org/calendar/sunday-school-1100-am-2/2030-09-08/
LOCATION:2011 North Britain Road\, Irving\, TX\, 2011 N. Britain Rd.\, Irving\, TX\, 76051\, United States
ORGANIZER;CN="DFW-SRF Meditation Group":MAILTO:connect@srfdallasfortworth.org
END:VEVENT
BEGIN:VEVENT
DTSTART;TZID=America/Chicago:20300914T090000
DTEND;TZID=America/Chicago:20300914T120000
DTSTAMP:20260425T202057
CREATED:20250623T131942Z
LAST-MODIFIED:20260108T195141Z
UID:10002491-1915606800-1915617600@srfdfw.org
SUMMARY:Saturday 3 Hour Meditation
DESCRIPTION:The service will include a prayer and short inspirational reading to begin. Then there will be a chant on hours 10 and 11. The service will end with a Prayer Service which includes the healing technique taught by our Guru. \nPlease enter and exit on the hour during chants.
URL:https://srfdfw.org/calendar/saturday-3-hour-meditation-2-2-2/2030-09-14/
LOCATION:2011 North Britain Road\, Irving\, TX\, 2011 N. Britain Rd.\, Irving\, TX\, 76051\, United States
ORGANIZER;CN="DFW-SRF Meditation Group":MAILTO:connect@srfdallasfortworth.org
END:VEVENT
BEGIN:VEVENT
DTSTART;TZID=America/Chicago:20300915T110000
DTEND;TZID=America/Chicago:20300915T120000
DTSTAMP:20260425T202057
CREATED:20241128T222515Z
LAST-MODIFIED:20260211T212637Z
UID:10002571-1915700400-1915704000@srfdfw.org
SUMMARY:Sunday Reading Service
DESCRIPTION:The Readings Service includes periods of meditation\, inspirational reading of topics by Paramahansa Yogananda\, and chanting. We also include the World Wide Prayer Circle of SRF members and friends where we pray for world peace and for those who have requested\, physical\, mental\, or spiritual healing.
URL:https://srfdfw.org/calendar/readings-service-2-2/2030-09-15/
LOCATION:DFW Meditation Group\, 2011 N. Britain Rd.\, Irving\, TX\, 76051\, United States
ORGANIZER;CN="DFW-SRF Meditation Group":MAILTO:connect@srfdallasfortworth.org
GEO:32.8347664;-96.9448622
X-APPLE-STRUCTURED-LOCATION;VALUE=URI;X-ADDRESS=DFW Meditation Group 2011 N. Britain Rd. Irving TX 76051 United States;X-APPLE-RADIUS=500;X-TITLE=2011 N. Britain Rd.:geo:-96.9448622,32.8347664
END:VEVENT
BEGIN:VEVENT
DTSTART;TZID=America/Chicago:20300915T110000
DTEND;TZID=America/Chicago:20300915T120000
DTSTAMP:20260425T202057
CREATED:20241128T222907Z
LAST-MODIFIED:20251126T153811Z
UID:10002517-1915700400-1915704000@srfdfw.org
SUMMARY:Sunday School
DESCRIPTION:
URL:https://srfdfw.org/calendar/sunday-school-1100-am-2/2030-09-15/
LOCATION:2011 North Britain Road\, Irving\, TX\, 2011 N. Britain Rd.\, Irving\, TX\, 76051\, United States
ORGANIZER;CN="DFW-SRF Meditation Group":MAILTO:connect@srfdallasfortworth.org
END:VEVENT
BEGIN:VEVENT
DTSTART;TZID=America/Chicago:20300921T090000
DTEND;TZID=America/Chicago:20300921T120000
DTSTAMP:20260425T202057
CREATED:20250623T131942Z
LAST-MODIFIED:20260108T195141Z
UID:10002492-1916211600-1916222400@srfdfw.org
SUMMARY:Saturday 3 Hour Meditation
DESCRIPTION:The service will include a prayer and short inspirational reading to begin. Then there will be a chant on hours 10 and 11. The service will end with a Prayer Service which includes the healing technique taught by our Guru. \nPlease enter and exit on the hour during chants.
URL:https://srfdfw.org/calendar/saturday-3-hour-meditation-2-2-2/2030-09-21/
LOCATION:2011 North Britain Road\, Irving\, TX\, 2011 N. Britain Rd.\, Irving\, TX\, 76051\, United States
ORGANIZER;CN="DFW-SRF Meditation Group":MAILTO:connect@srfdallasfortworth.org
END:VEVENT
BEGIN:VEVENT
DTSTART;TZID=America/Chicago:20300922T110000
DTEND;TZID=America/Chicago:20300922T120000
DTSTAMP:20260425T202057
CREATED:20241128T222515Z
LAST-MODIFIED:20260211T212637Z
UID:10002572-1916305200-1916308800@srfdfw.org
SUMMARY:Sunday Reading Service
DESCRIPTION:The Readings Service includes periods of meditation\, inspirational reading of topics by Paramahansa Yogananda\, and chanting. We also include the World Wide Prayer Circle of SRF members and friends where we pray for world peace and for those who have requested\, physical\, mental\, or spiritual healing.
URL:https://srfdfw.org/calendar/readings-service-2-2/2030-09-22/
LOCATION:DFW Meditation Group\, 2011 N. Britain Rd.\, Irving\, TX\, 76051\, United States
ORGANIZER;CN="DFW-SRF Meditation Group":MAILTO:connect@srfdallasfortworth.org
GEO:32.8347664;-96.9448622
X-APPLE-STRUCTURED-LOCATION;VALUE=URI;X-ADDRESS=DFW Meditation Group 2011 N. Britain Rd. Irving TX 76051 United States;X-APPLE-RADIUS=500;X-TITLE=2011 N. Britain Rd.:geo:-96.9448622,32.8347664
END:VEVENT
BEGIN:VEVENT
DTSTART;TZID=America/Chicago:20300922T110000
DTEND;TZID=America/Chicago:20300922T120000
DTSTAMP:20260425T202057
CREATED:20241128T222907Z
LAST-MODIFIED:20251126T153811Z
UID:10002518-1916305200-1916308800@srfdfw.org
SUMMARY:Sunday School
DESCRIPTION:
URL:https://srfdfw.org/calendar/sunday-school-1100-am-2/2030-09-22/
LOCATION:2011 North Britain Road\, Irving\, TX\, 2011 N. Britain Rd.\, Irving\, TX\, 76051\, United States
ORGANIZER;CN="DFW-SRF Meditation Group":MAILTO:connect@srfdallasfortworth.org
END:VEVENT
BEGIN:VEVENT
DTSTART;TZID=America/Chicago:20300928T090000
DTEND;TZID=America/Chicago:20300928T120000
DTSTAMP:20260425T202057
CREATED:20250623T131942Z
LAST-MODIFIED:20260108T195141Z
UID:10002493-1916816400-1916827200@srfdfw.org
SUMMARY:Saturday 3 Hour Meditation
DESCRIPTION:The service will include a prayer and short inspirational reading to begin. Then there will be a chant on hours 10 and 11. The service will end with a Prayer Service which includes the healing technique taught by our Guru. \nPlease enter and exit on the hour during chants.
URL:https://srfdfw.org/calendar/saturday-3-hour-meditation-2-2-2/2030-09-28/
LOCATION:2011 North Britain Road\, Irving\, TX\, 2011 N. Britain Rd.\, Irving\, TX\, 76051\, United States
ORGANIZER;CN="DFW-SRF Meditation Group":MAILTO:connect@srfdallasfortworth.org
END:VEVENT
BEGIN:VEVENT
DTSTART;TZID=America/Chicago:20300929T110000
DTEND;TZID=America/Chicago:20300929T120000
DTSTAMP:20260425T202057
CREATED:20241128T222515Z
LAST-MODIFIED:20260211T212637Z
UID:10002573-1916910000-1916913600@srfdfw.org
SUMMARY:Sunday Reading Service
DESCRIPTION:The Readings Service includes periods of meditation\, inspirational reading of topics by Paramahansa Yogananda\, and chanting. We also include the World Wide Prayer Circle of SRF members and friends where we pray for world peace and for those who have requested\, physical\, mental\, or spiritual healing.
URL:https://srfdfw.org/calendar/readings-service-2-2/2030-09-29/
LOCATION:DFW Meditation Group\, 2011 N. Britain Rd.\, Irving\, TX\, 76051\, United States
ORGANIZER;CN="DFW-SRF Meditation Group":MAILTO:connect@srfdallasfortworth.org
GEO:32.8347664;-96.9448622
X-APPLE-STRUCTURED-LOCATION;VALUE=URI;X-ADDRESS=DFW Meditation Group 2011 N. Britain Rd. Irving TX 76051 United States;X-APPLE-RADIUS=500;X-TITLE=2011 N. Britain Rd.:geo:-96.9448622,32.8347664
END:VEVENT
BEGIN:VEVENT
DTSTART;TZID=America/Chicago:20300929T110000
DTEND;TZID=America/Chicago:20300929T120000
DTSTAMP:20260425T202057
CREATED:20241128T222907Z
LAST-MODIFIED:20251126T153811Z
UID:10002519-1916910000-1916913600@srfdfw.org
SUMMARY:Sunday School
DESCRIPTION:
URL:https://srfdfw.org/calendar/sunday-school-1100-am-2/2030-09-29/
LOCATION:2011 North Britain Road\, Irving\, TX\, 2011 N. Britain Rd.\, Irving\, TX\, 76051\, United States
ORGANIZER;CN="DFW-SRF Meditation Group":MAILTO:connect@srfdallasfortworth.org
END:VEVENT
BEGIN:VEVENT
DTSTART;TZID=America/Chicago:20301005T090000
DTEND;TZID=America/Chicago:20301005T120000
DTSTAMP:20260425T202057
CREATED:20250623T131942Z
LAST-MODIFIED:20260108T195141Z
UID:10002494-1917421200-1917432000@srfdfw.org
SUMMARY:Saturday 3 Hour Meditation
DESCRIPTION:The service will include a prayer and short inspirational reading to begin. Then there will be a chant on hours 10 and 11. The service will end with a Prayer Service which includes the healing technique taught by our Guru. \nPlease enter and exit on the hour during chants.
URL:https://srfdfw.org/calendar/saturday-3-hour-meditation-2-2-2/2030-10-05/
LOCATION:2011 North Britain Road\, Irving\, TX\, 2011 N. Britain Rd.\, Irving\, TX\, 76051\, United States
ORGANIZER;CN="DFW-SRF Meditation Group":MAILTO:connect@srfdallasfortworth.org
END:VEVENT
BEGIN:VEVENT
DTSTART;TZID=America/Chicago:20301006T110000
DTEND;TZID=America/Chicago:20301006T120000
DTSTAMP:20260425T202057
CREATED:20241128T222515Z
LAST-MODIFIED:20260211T212637Z
UID:10002574-1917514800-1917518400@srfdfw.org
SUMMARY:Sunday Reading Service
DESCRIPTION:The Readings Service includes periods of meditation\, inspirational reading of topics by Paramahansa Yogananda\, and chanting. We also include the World Wide Prayer Circle of SRF members and friends where we pray for world peace and for those who have requested\, physical\, mental\, or spiritual healing.
URL:https://srfdfw.org/calendar/readings-service-2-2/2030-10-06/
LOCATION:DFW Meditation Group\, 2011 N. Britain Rd.\, Irving\, TX\, 76051\, United States
ORGANIZER;CN="DFW-SRF Meditation Group":MAILTO:connect@srfdallasfortworth.org
GEO:32.8347664;-96.9448622
X-APPLE-STRUCTURED-LOCATION;VALUE=URI;X-ADDRESS=DFW Meditation Group 2011 N. Britain Rd. Irving TX 76051 United States;X-APPLE-RADIUS=500;X-TITLE=2011 N. Britain Rd.:geo:-96.9448622,32.8347664
END:VEVENT
BEGIN:VEVENT
DTSTART;TZID=America/Chicago:20301006T110000
DTEND;TZID=America/Chicago:20301006T120000
DTSTAMP:20260425T202057
CREATED:20241128T222907Z
LAST-MODIFIED:20251126T153811Z
UID:10002520-1917514800-1917518400@srfdfw.org
SUMMARY:Sunday School
DESCRIPTION:
URL:https://srfdfw.org/calendar/sunday-school-1100-am-2/2030-10-06/
LOCATION:2011 North Britain Road\, Irving\, TX\, 2011 N. Britain Rd.\, Irving\, TX\, 76051\, United States
ORGANIZER;CN="DFW-SRF Meditation Group":MAILTO:connect@srfdallasfortworth.org
END:VEVENT
BEGIN:VEVENT
DTSTART;TZID=America/Chicago:20301012T090000
DTEND;TZID=America/Chicago:20301012T120000
DTSTAMP:20260425T202057
CREATED:20250623T131942Z
LAST-MODIFIED:20260108T195141Z
UID:10002495-1918026000-1918036800@srfdfw.org
SUMMARY:Saturday 3 Hour Meditation
DESCRIPTION:The service will include a prayer and short inspirational reading to begin. Then there will be a chant on hours 10 and 11. The service will end with a Prayer Service which includes the healing technique taught by our Guru. \nPlease enter and exit on the hour during chants.
URL:https://srfdfw.org/calendar/saturday-3-hour-meditation-2-2-2/2030-10-12/
LOCATION:2011 North Britain Road\, Irving\, TX\, 2011 N. Britain Rd.\, Irving\, TX\, 76051\, United States
ORGANIZER;CN="DFW-SRF Meditation Group":MAILTO:connect@srfdallasfortworth.org
END:VEVENT
BEGIN:VEVENT
DTSTART;TZID=America/Chicago:20301013T110000
DTEND;TZID=America/Chicago:20301013T120000
DTSTAMP:20260425T202057
CREATED:20241128T222515Z
LAST-MODIFIED:20260211T212637Z
UID:10002575-1918119600-1918123200@srfdfw.org
SUMMARY:Sunday Reading Service
DESCRIPTION:The Readings Service includes periods of meditation\, inspirational reading of topics by Paramahansa Yogananda\, and chanting. We also include the World Wide Prayer Circle of SRF members and friends where we pray for world peace and for those who have requested\, physical\, mental\, or spiritual healing.
URL:https://srfdfw.org/calendar/readings-service-2-2/2030-10-13/
LOCATION:DFW Meditation Group\, 2011 N. Britain Rd.\, Irving\, TX\, 76051\, United States
ORGANIZER;CN="DFW-SRF Meditation Group":MAILTO:connect@srfdallasfortworth.org
GEO:32.8347664;-96.9448622
X-APPLE-STRUCTURED-LOCATION;VALUE=URI;X-ADDRESS=DFW Meditation Group 2011 N. Britain Rd. Irving TX 76051 United States;X-APPLE-RADIUS=500;X-TITLE=2011 N. Britain Rd.:geo:-96.9448622,32.8347664
END:VEVENT
BEGIN:VEVENT
DTSTART;TZID=America/Chicago:20301013T110000
DTEND;TZID=America/Chicago:20301013T120000
DTSTAMP:20260425T202057
CREATED:20241128T222907Z
LAST-MODIFIED:20251126T153811Z
UID:10002521-1918119600-1918123200@srfdfw.org
SUMMARY:Sunday School
DESCRIPTION:
URL:https://srfdfw.org/calendar/sunday-school-1100-am-2/2030-10-13/
LOCATION:2011 North Britain Road\, Irving\, TX\, 2011 N. Britain Rd.\, Irving\, TX\, 76051\, United States
ORGANIZER;CN="DFW-SRF Meditation Group":MAILTO:connect@srfdallasfortworth.org
END:VEVENT
BEGIN:VEVENT
DTSTART;TZID=America/Chicago:20301019T090000
DTEND;TZID=America/Chicago:20301019T120000
DTSTAMP:20260425T202057
CREATED:20250623T131942Z
LAST-MODIFIED:20260108T195141Z
UID:10002496-1918630800-1918641600@srfdfw.org
SUMMARY:Saturday 3 Hour Meditation
DESCRIPTION:The service will include a prayer and short inspirational reading to begin. Then there will be a chant on hours 10 and 11. The service will end with a Prayer Service which includes the healing technique taught by our Guru. \nPlease enter and exit on the hour during chants.
URL:https://srfdfw.org/calendar/saturday-3-hour-meditation-2-2-2/2030-10-19/
LOCATION:2011 North Britain Road\, Irving\, TX\, 2011 N. Britain Rd.\, Irving\, TX\, 76051\, United States
ORGANIZER;CN="DFW-SRF Meditation Group":MAILTO:connect@srfdallasfortworth.org
END:VEVENT
BEGIN:VEVENT
DTSTART;TZID=America/Chicago:20301020T110000
DTEND;TZID=America/Chicago:20301020T120000
DTSTAMP:20260425T202057
CREATED:20241128T222515Z
LAST-MODIFIED:20260211T212637Z
UID:10002576-1918724400-1918728000@srfdfw.org
SUMMARY:Sunday Reading Service
DESCRIPTION:The Readings Service includes periods of meditation\, inspirational reading of topics by Paramahansa Yogananda\, and chanting. We also include the World Wide Prayer Circle of SRF members and friends where we pray for world peace and for those who have requested\, physical\, mental\, or spiritual healing.
URL:https://srfdfw.org/calendar/readings-service-2-2/2030-10-20/
LOCATION:DFW Meditation Group\, 2011 N. Britain Rd.\, Irving\, TX\, 76051\, United States
ORGANIZER;CN="DFW-SRF Meditation Group":MAILTO:connect@srfdallasfortworth.org
GEO:32.8347664;-96.9448622
X-APPLE-STRUCTURED-LOCATION;VALUE=URI;X-ADDRESS=DFW Meditation Group 2011 N. Britain Rd. Irving TX 76051 United States;X-APPLE-RADIUS=500;X-TITLE=2011 N. Britain Rd.:geo:-96.9448622,32.8347664
END:VEVENT
BEGIN:VEVENT
DTSTART;TZID=America/Chicago:20301020T110000
DTEND;TZID=America/Chicago:20301020T120000
DTSTAMP:20260425T202057
CREATED:20241128T222907Z
LAST-MODIFIED:20251126T153811Z
UID:10002522-1918724400-1918728000@srfdfw.org
SUMMARY:Sunday School
DESCRIPTION:
URL:https://srfdfw.org/calendar/sunday-school-1100-am-2/2030-10-20/
LOCATION:2011 North Britain Road\, Irving\, TX\, 2011 N. Britain Rd.\, Irving\, TX\, 76051\, United States
ORGANIZER;CN="DFW-SRF Meditation Group":MAILTO:connect@srfdallasfortworth.org
END:VEVENT
BEGIN:VEVENT
DTSTART;TZID=America/Chicago:20301026T090000
DTEND;TZID=America/Chicago:20301026T120000
DTSTAMP:20260425T202057
CREATED:20250623T131942Z
LAST-MODIFIED:20260108T195141Z
UID:10002497-1919235600-1919246400@srfdfw.org
SUMMARY:Saturday 3 Hour Meditation
DESCRIPTION:The service will include a prayer and short inspirational reading to begin. Then there will be a chant on hours 10 and 11. The service will end with a Prayer Service which includes the healing technique taught by our Guru. \nPlease enter and exit on the hour during chants.
URL:https://srfdfw.org/calendar/saturday-3-hour-meditation-2-2-2/2030-10-26/
LOCATION:2011 North Britain Road\, Irving\, TX\, 2011 N. Britain Rd.\, Irving\, TX\, 76051\, United States
ORGANIZER;CN="DFW-SRF Meditation Group":MAILTO:connect@srfdallasfortworth.org
END:VEVENT
BEGIN:VEVENT
DTSTART;TZID=America/Chicago:20301027T110000
DTEND;TZID=America/Chicago:20301027T120000
DTSTAMP:20260425T202057
CREATED:20241128T222515Z
LAST-MODIFIED:20260211T212637Z
UID:10002577-1919329200-1919332800@srfdfw.org
SUMMARY:Sunday Reading Service
DESCRIPTION:The Readings Service includes periods of meditation\, inspirational reading of topics by Paramahansa Yogananda\, and chanting. We also include the World Wide Prayer Circle of SRF members and friends where we pray for world peace and for those who have requested\, physical\, mental\, or spiritual healing.
URL:https://srfdfw.org/calendar/readings-service-2-2/2030-10-27/
LOCATION:DFW Meditation Group\, 2011 N. Britain Rd.\, Irving\, TX\, 76051\, United States
ORGANIZER;CN="DFW-SRF Meditation Group":MAILTO:connect@srfdallasfortworth.org
GEO:32.8347664;-96.9448622
X-APPLE-STRUCTURED-LOCATION;VALUE=URI;X-ADDRESS=DFW Meditation Group 2011 N. Britain Rd. Irving TX 76051 United States;X-APPLE-RADIUS=500;X-TITLE=2011 N. Britain Rd.:geo:-96.9448622,32.8347664
END:VEVENT
BEGIN:VEVENT
DTSTART;TZID=America/Chicago:20301027T110000
DTEND;TZID=America/Chicago:20301027T120000
DTSTAMP:20260425T202057
CREATED:20241128T222907Z
LAST-MODIFIED:20251126T153811Z
UID:10002523-1919329200-1919332800@srfdfw.org
SUMMARY:Sunday School
DESCRIPTION:
URL:https://srfdfw.org/calendar/sunday-school-1100-am-2/2030-10-27/
LOCATION:2011 North Britain Road\, Irving\, TX\, 2011 N. Britain Rd.\, Irving\, TX\, 76051\, United States
ORGANIZER;CN="DFW-SRF Meditation Group":MAILTO:connect@srfdallasfortworth.org
END:VEVENT
BEGIN:VEVENT
DTSTART;TZID=America/Chicago:20301102T090000
DTEND;TZID=America/Chicago:20301102T120000
DTSTAMP:20260425T202057
CREATED:20250623T131942Z
LAST-MODIFIED:20260108T195141Z
UID:10002498-1919840400-1919851200@srfdfw.org
SUMMARY:Saturday 3 Hour Meditation
DESCRIPTION:The service will include a prayer and short inspirational reading to begin. Then there will be a chant on hours 10 and 11. The service will end with a Prayer Service which includes the healing technique taught by our Guru. \nPlease enter and exit on the hour during chants.
URL:https://srfdfw.org/calendar/saturday-3-hour-meditation-2-2-2/2030-11-02/
LOCATION:2011 North Britain Road\, Irving\, TX\, 2011 N. Britain Rd.\, Irving\, TX\, 76051\, United States
ORGANIZER;CN="DFW-SRF Meditation Group":MAILTO:connect@srfdallasfortworth.org
END:VEVENT
BEGIN:VEVENT
DTSTART;TZID=America/Chicago:20301103T110000
DTEND;TZID=America/Chicago:20301103T120000
DTSTAMP:20260425T202057
CREATED:20241128T222515Z
LAST-MODIFIED:20260211T212637Z
UID:10002578-1919934000-1919937600@srfdfw.org
SUMMARY:Sunday Reading Service
DESCRIPTION:The Readings Service includes periods of meditation\, inspirational reading of topics by Paramahansa Yogananda\, and chanting. We also include the World Wide Prayer Circle of SRF members and friends where we pray for world peace and for those who have requested\, physical\, mental\, or spiritual healing.
URL:https://srfdfw.org/calendar/readings-service-2-2/2030-11-03/
LOCATION:DFW Meditation Group\, 2011 N. Britain Rd.\, Irving\, TX\, 76051\, United States
ORGANIZER;CN="DFW-SRF Meditation Group":MAILTO:connect@srfdallasfortworth.org
GEO:32.8347664;-96.9448622
X-APPLE-STRUCTURED-LOCATION;VALUE=URI;X-ADDRESS=DFW Meditation Group 2011 N. Britain Rd. Irving TX 76051 United States;X-APPLE-RADIUS=500;X-TITLE=2011 N. Britain Rd.:geo:-96.9448622,32.8347664
END:VEVENT
BEGIN:VEVENT
DTSTART;TZID=America/Chicago:20301103T110000
DTEND;TZID=America/Chicago:20301103T120000
DTSTAMP:20260425T202057
CREATED:20241128T222907Z
LAST-MODIFIED:20251126T153811Z
UID:10002524-1919934000-1919937600@srfdfw.org
SUMMARY:Sunday School
DESCRIPTION:
URL:https://srfdfw.org/calendar/sunday-school-1100-am-2/2030-11-03/
LOCATION:2011 North Britain Road\, Irving\, TX\, 2011 N. Britain Rd.\, Irving\, TX\, 76051\, United States
ORGANIZER;CN="DFW-SRF Meditation Group":MAILTO:connect@srfdallasfortworth.org
END:VEVENT
BEGIN:VEVENT
DTSTART;TZID=America/Chicago:20301109T090000
DTEND;TZID=America/Chicago:20301109T120000
DTSTAMP:20260425T202057
CREATED:20250623T131942Z
LAST-MODIFIED:20260108T195141Z
UID:10002499-1920445200-1920456000@srfdfw.org
SUMMARY:Saturday 3 Hour Meditation
DESCRIPTION:The service will include a prayer and short inspirational reading to begin. Then there will be a chant on hours 10 and 11. The service will end with a Prayer Service which includes the healing technique taught by our Guru. \nPlease enter and exit on the hour during chants.
URL:https://srfdfw.org/calendar/saturday-3-hour-meditation-2-2-2/2030-11-09/
LOCATION:2011 North Britain Road\, Irving\, TX\, 2011 N. Britain Rd.\, Irving\, TX\, 76051\, United States
ORGANIZER;CN="DFW-SRF Meditation Group":MAILTO:connect@srfdallasfortworth.org
END:VEVENT
BEGIN:VEVENT
DTSTART;TZID=America/Chicago:20301110T110000
DTEND;TZID=America/Chicago:20301110T120000
DTSTAMP:20260425T202057
CREATED:20241128T222515Z
LAST-MODIFIED:20260211T212637Z
UID:10002579-1920538800-1920542400@srfdfw.org
SUMMARY:Sunday Reading Service
DESCRIPTION:The Readings Service includes periods of meditation\, inspirational reading of topics by Paramahansa Yogananda\, and chanting. We also include the World Wide Prayer Circle of SRF members and friends where we pray for world peace and for those who have requested\, physical\, mental\, or spiritual healing.
URL:https://srfdfw.org/calendar/readings-service-2-2/2030-11-10/
LOCATION:DFW Meditation Group\, 2011 N. Britain Rd.\, Irving\, TX\, 76051\, United States
ORGANIZER;CN="DFW-SRF Meditation Group":MAILTO:connect@srfdallasfortworth.org
GEO:32.8347664;-96.9448622
X-APPLE-STRUCTURED-LOCATION;VALUE=URI;X-ADDRESS=DFW Meditation Group 2011 N. Britain Rd. Irving TX 76051 United States;X-APPLE-RADIUS=500;X-TITLE=2011 N. Britain Rd.:geo:-96.9448622,32.8347664
END:VEVENT
BEGIN:VEVENT
DTSTART;TZID=America/Chicago:20301110T110000
DTEND;TZID=America/Chicago:20301110T120000
DTSTAMP:20260425T202058
CREATED:20241128T222907Z
LAST-MODIFIED:20251126T153811Z
UID:10002525-1920538800-1920542400@srfdfw.org
SUMMARY:Sunday School
DESCRIPTION:
URL:https://srfdfw.org/calendar/sunday-school-1100-am-2/2030-11-10/
LOCATION:2011 North Britain Road\, Irving\, TX\, 2011 N. Britain Rd.\, Irving\, TX\, 76051\, United States
ORGANIZER;CN="DFW-SRF Meditation Group":MAILTO:connect@srfdallasfortworth.org
END:VEVENT
BEGIN:VEVENT
DTSTART;TZID=America/Chicago:20301116T090000
DTEND;TZID=America/Chicago:20301116T120000
DTSTAMP:20260425T202058
CREATED:20250623T131942Z
LAST-MODIFIED:20260108T195141Z
UID:10002501-1921050000-1921060800@srfdfw.org
SUMMARY:Saturday 3 Hour Meditation
DESCRIPTION:The service will include a prayer and short inspirational reading to begin. Then there will be a chant on hours 10 and 11. The service will end with a Prayer Service which includes the healing technique taught by our Guru. \nPlease enter and exit on the hour during chants.
URL:https://srfdfw.org/calendar/saturday-3-hour-meditation-2-2-2/2030-11-16/
LOCATION:2011 North Britain Road\, Irving\, TX\, 2011 N. Britain Rd.\, Irving\, TX\, 76051\, United States
ORGANIZER;CN="DFW-SRF Meditation Group":MAILTO:connect@srfdallasfortworth.org
END:VEVENT
END:VCALENDAR