BEGIN:VCALENDAR
VERSION:2.0
PRODID:-//DFW Meditation Group of SRF - ECPv6.15.20//NONSGML v1.0//EN
CALSCALE:GREGORIAN
METHOD:PUBLISH
X-WR-CALNAME:DFW Meditation Group of SRF
X-ORIGINAL-URL:https://srfdfw.org
X-WR-CALDESC:Events for DFW Meditation Group of SRF
REFRESH-INTERVAL;VALUE=DURATION:PT1H
X-Robots-Tag:noindex
X-PUBLISHED-TTL:PT1H
BEGIN:VTIMEZONE
TZID:America/Chicago
BEGIN:DAYLIGHT
TZOFFSETFROM:-0600
TZOFFSETTO:-0500
TZNAME:CDT
DTSTART:20230312T080000
END:DAYLIGHT
BEGIN:STANDARD
TZOFFSETFROM:-0500
TZOFFSETTO:-0600
TZNAME:CST
DTSTART:20231105T070000
END:STANDARD
BEGIN:DAYLIGHT
TZOFFSETFROM:-0600
TZOFFSETTO:-0500
TZNAME:CDT
DTSTART:20240310T080000
END:DAYLIGHT
BEGIN:STANDARD
TZOFFSETFROM:-0500
TZOFFSETTO:-0600
TZNAME:CST
DTSTART:20241103T070000
END:STANDARD
BEGIN:DAYLIGHT
TZOFFSETFROM:-0600
TZOFFSETTO:-0500
TZNAME:CDT
DTSTART:20250309T080000
END:DAYLIGHT
BEGIN:STANDARD
TZOFFSETFROM:-0500
TZOFFSETTO:-0600
TZNAME:CST
DTSTART:20251102T070000
END:STANDARD
BEGIN:DAYLIGHT
TZOFFSETFROM:-0600
TZOFFSETTO:-0500
TZNAME:CDT
DTSTART:20260308T080000
END:DAYLIGHT
BEGIN:STANDARD
TZOFFSETFROM:-0500
TZOFFSETTO:-0600
TZNAME:CST
DTSTART:20261101T070000
END:STANDARD
END:VTIMEZONE
BEGIN:VEVENT
DTSTART;TZID=America/Chicago:20250216T110000
DTEND;TZID=America/Chicago:20250216T120000
DTSTAMP:20260420T232742
CREATED:20241128T222907Z
LAST-MODIFIED:20251126T153811Z
UID:10001663-1739703600-1739707200@srfdfw.org
SUMMARY:Sunday School
DESCRIPTION:
URL:https://srfdfw.org/calendar/sunday-school-1100-am-2/2025-02-16/
LOCATION:2011 North Britain Road\, Irving\, TX\, 2011 N. Britain Rd.\, Irving\, TX\, 76051\, United States
ORGANIZER;CN="DFW-SRF Meditation Group":MAILTO:connect@srfdallasfortworth.org
END:VEVENT
BEGIN:VEVENT
DTSTART;TZID=America/Chicago:20250216T110000
DTEND;TZID=America/Chicago:20250216T120000
DTSTAMP:20260420T232742
CREATED:20241128T222515Z
LAST-MODIFIED:20260211T212637Z
UID:10001402-1739703600-1739707200@srfdfw.org
SUMMARY:Sunday Reading Service
DESCRIPTION:The Readings Service includes periods of meditation\, inspirational reading of topics by Paramahansa Yogananda\, and chanting. We also include the World Wide Prayer Circle of SRF members and friends where we pray for world peace and for those who have requested\, physical\, mental\, or spiritual healing.
URL:https://srfdfw.org/calendar/readings-service-2-2/2025-02-16/
LOCATION:DFW Meditation Group\, 2011 N. Britain Rd.\, Irving\, TX\, 76051\, United States
ORGANIZER;CN="DFW-SRF Meditation Group":MAILTO:connect@srfdallasfortworth.org
GEO:32.8347664;-96.9448622
X-APPLE-STRUCTURED-LOCATION;VALUE=URI;X-ADDRESS=DFW Meditation Group 2011 N. Britain Rd. Irving TX 76051 United States;X-APPLE-RADIUS=500;X-TITLE=2011 N. Britain Rd.:geo:-96.9448622,32.8347664
END:VEVENT
BEGIN:VEVENT
DTSTART;TZID=America/Chicago:20250216T100000
DTEND;TZID=America/Chicago:20250216T104500
DTSTAMP:20260420T232742
CREATED:20220711T161139Z
LAST-MODIFIED:20250222T174412Z
UID:10001141-1739700000-1739702700@srfdfw.org
SUMMARY:Sunday Meditation Service
DESCRIPTION:Our meditation service is devoted to silent meditation. There is a short inspirational message at the beginning followed by a chant\, then meditation. We also include the World Wide Prayer Circle of SRF members and friends where we pray for world peace and for those who have requested\, physical\, mental\, or spiritual healing.
URL:https://srfdfw.org/calendar/meditation-service-reading-service/2025-02-16/
LOCATION:DFW Meditation Group\, 2011 N. Britain Rd.\, Irving\, TX\, 76051\, United States
ORGANIZER;CN="DFW-SRF Meditation Group":MAILTO:connect@srfdallasfortworth.org
GEO:32.8347664;-96.9448622
X-APPLE-STRUCTURED-LOCATION;VALUE=URI;X-ADDRESS=DFW Meditation Group 2011 N. Britain Rd. Irving TX 76051 United States;X-APPLE-RADIUS=500;X-TITLE=2011 N. Britain Rd.:geo:-96.9448622,32.8347664
END:VEVENT
BEGIN:VEVENT
DTSTART;TZID=America/Chicago:20250212T190000
DTEND;TZID=America/Chicago:20250212T203000
DTSTAMP:20260420T232742
CREATED:20220910T223756Z
LAST-MODIFIED:20250623T133159Z
UID:10000524-1739386800-1739392200@srfdfw.org
SUMMARY:Wednesday Online Meditation
DESCRIPTION:7 pm – 7.15 pm Energization Exercises \n7.20 pm -8.30 Group Meditation with Inspirational-reading\, Chants\, Meditation and Healing Service . \nLink to Join Zoom Meeting: \nhttps://us02web.zoom.us/j/73165306898?pwd=RmZLelBDUWpIT2kvSm9DSWhQVmZKQT09 \nMeeting ID: 731 6530 6898 \nPasscode: 917834
URL:https://srfdfw.org/calendar/wednesday-meditation/2025-02-12/
LOCATION:DFW Meditation Group\, 2011 N. Britain Rd.\, Irving\, TX\, 76051\, United States
GEO:32.8347664;-96.9448622
X-APPLE-STRUCTURED-LOCATION;VALUE=URI;X-ADDRESS=DFW Meditation Group 2011 N. Britain Rd. Irving TX 76051 United States;X-APPLE-RADIUS=500;X-TITLE=2011 N. Britain Rd.:geo:-96.9448622,32.8347664
END:VEVENT
BEGIN:VEVENT
DTSTART;TZID=America/Chicago:20250209T110000
DTEND;TZID=America/Chicago:20250209T120000
DTSTAMP:20260420T232742
CREATED:20241128T222907Z
LAST-MODIFIED:20251126T153811Z
UID:10001662-1739098800-1739102400@srfdfw.org
SUMMARY:Sunday School
DESCRIPTION:
URL:https://srfdfw.org/calendar/sunday-school-1100-am-2/2025-02-09/
LOCATION:2011 North Britain Road\, Irving\, TX\, 2011 N. Britain Rd.\, Irving\, TX\, 76051\, United States
ORGANIZER;CN="DFW-SRF Meditation Group":MAILTO:connect@srfdallasfortworth.org
END:VEVENT
BEGIN:VEVENT
DTSTART;TZID=America/Chicago:20250209T110000
DTEND;TZID=America/Chicago:20250209T120000
DTSTAMP:20260420T232742
CREATED:20241128T222515Z
LAST-MODIFIED:20260211T212637Z
UID:10001401-1739098800-1739102400@srfdfw.org
SUMMARY:Sunday Reading Service
DESCRIPTION:The Readings Service includes periods of meditation\, inspirational reading of topics by Paramahansa Yogananda\, and chanting. We also include the World Wide Prayer Circle of SRF members and friends where we pray for world peace and for those who have requested\, physical\, mental\, or spiritual healing.
URL:https://srfdfw.org/calendar/readings-service-2-2/2025-02-09/
LOCATION:DFW Meditation Group\, 2011 N. Britain Rd.\, Irving\, TX\, 76051\, United States
ORGANIZER;CN="DFW-SRF Meditation Group":MAILTO:connect@srfdallasfortworth.org
GEO:32.8347664;-96.9448622
X-APPLE-STRUCTURED-LOCATION;VALUE=URI;X-ADDRESS=DFW Meditation Group 2011 N. Britain Rd. Irving TX 76051 United States;X-APPLE-RADIUS=500;X-TITLE=2011 N. Britain Rd.:geo:-96.9448622,32.8347664
END:VEVENT
BEGIN:VEVENT
DTSTART;TZID=America/Chicago:20250209T100000
DTEND;TZID=America/Chicago:20250209T104500
DTSTAMP:20260420T232742
CREATED:20220711T161139Z
LAST-MODIFIED:20250222T174412Z
UID:10001140-1739095200-1739097900@srfdfw.org
SUMMARY:Sunday Meditation Service
DESCRIPTION:Our meditation service is devoted to silent meditation. There is a short inspirational message at the beginning followed by a chant\, then meditation. We also include the World Wide Prayer Circle of SRF members and friends where we pray for world peace and for those who have requested\, physical\, mental\, or spiritual healing.
URL:https://srfdfw.org/calendar/meditation-service-reading-service/2025-02-09/
LOCATION:DFW Meditation Group\, 2011 N. Britain Rd.\, Irving\, TX\, 76051\, United States
ORGANIZER;CN="DFW-SRF Meditation Group":MAILTO:connect@srfdallasfortworth.org
GEO:32.8347664;-96.9448622
X-APPLE-STRUCTURED-LOCATION;VALUE=URI;X-ADDRESS=DFW Meditation Group 2011 N. Britain Rd. Irving TX 76051 United States;X-APPLE-RADIUS=500;X-TITLE=2011 N. Britain Rd.:geo:-96.9448622,32.8347664
END:VEVENT
BEGIN:VEVENT
DTSTART;TZID=America/Chicago:20250205T190000
DTEND;TZID=America/Chicago:20250205T203000
DTSTAMP:20260420T232742
CREATED:20220910T223756Z
LAST-MODIFIED:20250623T133159Z
UID:10000523-1738782000-1738787400@srfdfw.org
SUMMARY:Wednesday Online Meditation
DESCRIPTION:7 pm – 7.15 pm Energization Exercises \n7.20 pm -8.30 Group Meditation with Inspirational-reading\, Chants\, Meditation and Healing Service . \nLink to Join Zoom Meeting: \nhttps://us02web.zoom.us/j/73165306898?pwd=RmZLelBDUWpIT2kvSm9DSWhQVmZKQT09 \nMeeting ID: 731 6530 6898 \nPasscode: 917834
URL:https://srfdfw.org/calendar/wednesday-meditation/2025-02-05/
LOCATION:DFW Meditation Group\, 2011 N. Britain Rd.\, Irving\, TX\, 76051\, United States
GEO:32.8347664;-96.9448622
X-APPLE-STRUCTURED-LOCATION;VALUE=URI;X-ADDRESS=DFW Meditation Group 2011 N. Britain Rd. Irving TX 76051 United States;X-APPLE-RADIUS=500;X-TITLE=2011 N. Britain Rd.:geo:-96.9448622,32.8347664
END:VEVENT
BEGIN:VEVENT
DTSTART;TZID=America/Chicago:20250202T110000
DTEND;TZID=America/Chicago:20250202T120000
DTSTAMP:20260420T232742
CREATED:20241128T222907Z
LAST-MODIFIED:20251126T153811Z
UID:10001661-1738494000-1738497600@srfdfw.org
SUMMARY:Sunday School
DESCRIPTION:
URL:https://srfdfw.org/calendar/sunday-school-1100-am-2/2025-02-02/
LOCATION:2011 North Britain Road\, Irving\, TX\, 2011 N. Britain Rd.\, Irving\, TX\, 76051\, United States
ORGANIZER;CN="DFW-SRF Meditation Group":MAILTO:connect@srfdallasfortworth.org
END:VEVENT
BEGIN:VEVENT
DTSTART;TZID=America/Chicago:20250202T110000
DTEND;TZID=America/Chicago:20250202T120000
DTSTAMP:20260420T232742
CREATED:20241128T222515Z
LAST-MODIFIED:20260211T212637Z
UID:10001400-1738494000-1738497600@srfdfw.org
SUMMARY:Sunday Reading Service
DESCRIPTION:The Readings Service includes periods of meditation\, inspirational reading of topics by Paramahansa Yogananda\, and chanting. We also include the World Wide Prayer Circle of SRF members and friends where we pray for world peace and for those who have requested\, physical\, mental\, or spiritual healing.
URL:https://srfdfw.org/calendar/readings-service-2-2/2025-02-02/
LOCATION:DFW Meditation Group\, 2011 N. Britain Rd.\, Irving\, TX\, 76051\, United States
ORGANIZER;CN="DFW-SRF Meditation Group":MAILTO:connect@srfdallasfortworth.org
GEO:32.8347664;-96.9448622
X-APPLE-STRUCTURED-LOCATION;VALUE=URI;X-ADDRESS=DFW Meditation Group 2011 N. Britain Rd. Irving TX 76051 United States;X-APPLE-RADIUS=500;X-TITLE=2011 N. Britain Rd.:geo:-96.9448622,32.8347664
END:VEVENT
BEGIN:VEVENT
DTSTART;TZID=America/Chicago:20250202T100000
DTEND;TZID=America/Chicago:20250202T104500
DTSTAMP:20260420T232742
CREATED:20220711T161139Z
LAST-MODIFIED:20250222T174412Z
UID:10001139-1738490400-1738493100@srfdfw.org
SUMMARY:Sunday Meditation Service
DESCRIPTION:Our meditation service is devoted to silent meditation. There is a short inspirational message at the beginning followed by a chant\, then meditation. We also include the World Wide Prayer Circle of SRF members and friends where we pray for world peace and for those who have requested\, physical\, mental\, or spiritual healing.
URL:https://srfdfw.org/calendar/meditation-service-reading-service/2025-02-02/
LOCATION:DFW Meditation Group\, 2011 N. Britain Rd.\, Irving\, TX\, 76051\, United States
ORGANIZER;CN="DFW-SRF Meditation Group":MAILTO:connect@srfdallasfortworth.org
GEO:32.8347664;-96.9448622
X-APPLE-STRUCTURED-LOCATION;VALUE=URI;X-ADDRESS=DFW Meditation Group 2011 N. Britain Rd. Irving TX 76051 United States;X-APPLE-RADIUS=500;X-TITLE=2011 N. Britain Rd.:geo:-96.9448622,32.8347664
END:VEVENT
BEGIN:VEVENT
DTSTART;TZID=America/Chicago:20250129T190000
DTEND;TZID=America/Chicago:20250129T203000
DTSTAMP:20260420T232742
CREATED:20220910T223756Z
LAST-MODIFIED:20250623T133159Z
UID:10000522-1738177200-1738182600@srfdfw.org
SUMMARY:Wednesday Online Meditation
DESCRIPTION:7 pm – 7.15 pm Energization Exercises \n7.20 pm -8.30 Group Meditation with Inspirational-reading\, Chants\, Meditation and Healing Service . \nLink to Join Zoom Meeting: \nhttps://us02web.zoom.us/j/73165306898?pwd=RmZLelBDUWpIT2kvSm9DSWhQVmZKQT09 \nMeeting ID: 731 6530 6898 \nPasscode: 917834
URL:https://srfdfw.org/calendar/wednesday-meditation/2025-01-29/
LOCATION:DFW Meditation Group\, 2011 N. Britain Rd.\, Irving\, TX\, 76051\, United States
GEO:32.8347664;-96.9448622
X-APPLE-STRUCTURED-LOCATION;VALUE=URI;X-ADDRESS=DFW Meditation Group 2011 N. Britain Rd. Irving TX 76051 United States;X-APPLE-RADIUS=500;X-TITLE=2011 N. Britain Rd.:geo:-96.9448622,32.8347664
END:VEVENT
BEGIN:VEVENT
DTSTART;TZID=America/Chicago:20250126T110000
DTEND;TZID=America/Chicago:20250126T120000
DTSTAMP:20260420T232742
CREATED:20241128T222907Z
LAST-MODIFIED:20251126T153811Z
UID:10001660-1737889200-1737892800@srfdfw.org
SUMMARY:Sunday School
DESCRIPTION:
URL:https://srfdfw.org/calendar/sunday-school-1100-am-2/2025-01-26/
LOCATION:2011 North Britain Road\, Irving\, TX\, 2011 N. Britain Rd.\, Irving\, TX\, 76051\, United States
ORGANIZER;CN="DFW-SRF Meditation Group":MAILTO:connect@srfdallasfortworth.org
END:VEVENT
BEGIN:VEVENT
DTSTART;TZID=America/Chicago:20250126T110000
DTEND;TZID=America/Chicago:20250126T120000
DTSTAMP:20260420T232742
CREATED:20241128T222515Z
LAST-MODIFIED:20260211T212637Z
UID:10001399-1737889200-1737892800@srfdfw.org
SUMMARY:Sunday Reading Service
DESCRIPTION:The Readings Service includes periods of meditation\, inspirational reading of topics by Paramahansa Yogananda\, and chanting. We also include the World Wide Prayer Circle of SRF members and friends where we pray for world peace and for those who have requested\, physical\, mental\, or spiritual healing.
URL:https://srfdfw.org/calendar/readings-service-2-2/2025-01-26/
LOCATION:DFW Meditation Group\, 2011 N. Britain Rd.\, Irving\, TX\, 76051\, United States
ORGANIZER;CN="DFW-SRF Meditation Group":MAILTO:connect@srfdallasfortworth.org
GEO:32.8347664;-96.9448622
X-APPLE-STRUCTURED-LOCATION;VALUE=URI;X-ADDRESS=DFW Meditation Group 2011 N. Britain Rd. Irving TX 76051 United States;X-APPLE-RADIUS=500;X-TITLE=2011 N. Britain Rd.:geo:-96.9448622,32.8347664
END:VEVENT
BEGIN:VEVENT
DTSTART;TZID=America/Chicago:20250126T100000
DTEND;TZID=America/Chicago:20250126T104500
DTSTAMP:20260420T232742
CREATED:20220711T161139Z
LAST-MODIFIED:20250222T174412Z
UID:10001138-1737885600-1737888300@srfdfw.org
SUMMARY:Sunday Meditation Service
DESCRIPTION:Our meditation service is devoted to silent meditation. There is a short inspirational message at the beginning followed by a chant\, then meditation. We also include the World Wide Prayer Circle of SRF members and friends where we pray for world peace and for those who have requested\, physical\, mental\, or spiritual healing.
URL:https://srfdfw.org/calendar/meditation-service-reading-service/2025-01-26/
LOCATION:DFW Meditation Group\, 2011 N. Britain Rd.\, Irving\, TX\, 76051\, United States
ORGANIZER;CN="DFW-SRF Meditation Group":MAILTO:connect@srfdallasfortworth.org
GEO:32.8347664;-96.9448622
X-APPLE-STRUCTURED-LOCATION;VALUE=URI;X-ADDRESS=DFW Meditation Group 2011 N. Britain Rd. Irving TX 76051 United States;X-APPLE-RADIUS=500;X-TITLE=2011 N. Britain Rd.:geo:-96.9448622,32.8347664
END:VEVENT
BEGIN:VEVENT
DTSTART;TZID=America/Chicago:20250122T190000
DTEND;TZID=America/Chicago:20250122T203000
DTSTAMP:20260420T232742
CREATED:20220910T223756Z
LAST-MODIFIED:20250623T133159Z
UID:10000521-1737572400-1737577800@srfdfw.org
SUMMARY:Wednesday Online Meditation
DESCRIPTION:7 pm – 7.15 pm Energization Exercises \n7.20 pm -8.30 Group Meditation with Inspirational-reading\, Chants\, Meditation and Healing Service . \nLink to Join Zoom Meeting: \nhttps://us02web.zoom.us/j/73165306898?pwd=RmZLelBDUWpIT2kvSm9DSWhQVmZKQT09 \nMeeting ID: 731 6530 6898 \nPasscode: 917834
URL:https://srfdfw.org/calendar/wednesday-meditation/2025-01-22/
LOCATION:DFW Meditation Group\, 2011 N. Britain Rd.\, Irving\, TX\, 76051\, United States
GEO:32.8347664;-96.9448622
X-APPLE-STRUCTURED-LOCATION;VALUE=URI;X-ADDRESS=DFW Meditation Group 2011 N. Britain Rd. Irving TX 76051 United States;X-APPLE-RADIUS=500;X-TITLE=2011 N. Britain Rd.:geo:-96.9448622,32.8347664
END:VEVENT
BEGIN:VEVENT
DTSTART;TZID=America/Chicago:20250119T110000
DTEND;TZID=America/Chicago:20250119T120000
DTSTAMP:20260420T232742
CREATED:20241128T222907Z
LAST-MODIFIED:20251126T153811Z
UID:10001659-1737284400-1737288000@srfdfw.org
SUMMARY:Sunday School
DESCRIPTION:
URL:https://srfdfw.org/calendar/sunday-school-1100-am-2/2025-01-19/
LOCATION:2011 North Britain Road\, Irving\, TX\, 2011 N. Britain Rd.\, Irving\, TX\, 76051\, United States
ORGANIZER;CN="DFW-SRF Meditation Group":MAILTO:connect@srfdallasfortworth.org
END:VEVENT
BEGIN:VEVENT
DTSTART;TZID=America/Chicago:20250119T110000
DTEND;TZID=America/Chicago:20250119T120000
DTSTAMP:20260420T232742
CREATED:20241128T222515Z
LAST-MODIFIED:20260211T212637Z
UID:10001398-1737284400-1737288000@srfdfw.org
SUMMARY:Sunday Reading Service
DESCRIPTION:The Readings Service includes periods of meditation\, inspirational reading of topics by Paramahansa Yogananda\, and chanting. We also include the World Wide Prayer Circle of SRF members and friends where we pray for world peace and for those who have requested\, physical\, mental\, or spiritual healing.
URL:https://srfdfw.org/calendar/readings-service-2-2/2025-01-19/
LOCATION:DFW Meditation Group\, 2011 N. Britain Rd.\, Irving\, TX\, 76051\, United States
ORGANIZER;CN="DFW-SRF Meditation Group":MAILTO:connect@srfdallasfortworth.org
GEO:32.8347664;-96.9448622
X-APPLE-STRUCTURED-LOCATION;VALUE=URI;X-ADDRESS=DFW Meditation Group 2011 N. Britain Rd. Irving TX 76051 United States;X-APPLE-RADIUS=500;X-TITLE=2011 N. Britain Rd.:geo:-96.9448622,32.8347664
END:VEVENT
BEGIN:VEVENT
DTSTART;TZID=America/Chicago:20250119T100000
DTEND;TZID=America/Chicago:20250119T104500
DTSTAMP:20260420T232742
CREATED:20220711T161139Z
LAST-MODIFIED:20250222T174412Z
UID:10001137-1737280800-1737283500@srfdfw.org
SUMMARY:Sunday Meditation Service
DESCRIPTION:Our meditation service is devoted to silent meditation. There is a short inspirational message at the beginning followed by a chant\, then meditation. We also include the World Wide Prayer Circle of SRF members and friends where we pray for world peace and for those who have requested\, physical\, mental\, or spiritual healing.
URL:https://srfdfw.org/calendar/meditation-service-reading-service/2025-01-19/
LOCATION:DFW Meditation Group\, 2011 N. Britain Rd.\, Irving\, TX\, 76051\, United States
ORGANIZER;CN="DFW-SRF Meditation Group":MAILTO:connect@srfdallasfortworth.org
GEO:32.8347664;-96.9448622
X-APPLE-STRUCTURED-LOCATION;VALUE=URI;X-ADDRESS=DFW Meditation Group 2011 N. Britain Rd. Irving TX 76051 United States;X-APPLE-RADIUS=500;X-TITLE=2011 N. Britain Rd.:geo:-96.9448622,32.8347664
END:VEVENT
BEGIN:VEVENT
DTSTART;TZID=America/Chicago:20250115T190000
DTEND;TZID=America/Chicago:20250115T203000
DTSTAMP:20260420T232742
CREATED:20220910T223756Z
LAST-MODIFIED:20250623T133159Z
UID:10000520-1736967600-1736973000@srfdfw.org
SUMMARY:Wednesday Online Meditation
DESCRIPTION:7 pm – 7.15 pm Energization Exercises \n7.20 pm -8.30 Group Meditation with Inspirational-reading\, Chants\, Meditation and Healing Service . \nLink to Join Zoom Meeting: \nhttps://us02web.zoom.us/j/73165306898?pwd=RmZLelBDUWpIT2kvSm9DSWhQVmZKQT09 \nMeeting ID: 731 6530 6898 \nPasscode: 917834
URL:https://srfdfw.org/calendar/wednesday-meditation/2025-01-15/
LOCATION:DFW Meditation Group\, 2011 N. Britain Rd.\, Irving\, TX\, 76051\, United States
GEO:32.8347664;-96.9448622
X-APPLE-STRUCTURED-LOCATION;VALUE=URI;X-ADDRESS=DFW Meditation Group 2011 N. Britain Rd. Irving TX 76051 United States;X-APPLE-RADIUS=500;X-TITLE=2011 N. Britain Rd.:geo:-96.9448622,32.8347664
END:VEVENT
BEGIN:VEVENT
DTSTART;TZID=America/Chicago:20250112T110000
DTEND;TZID=America/Chicago:20250112T120000
DTSTAMP:20260420T232742
CREATED:20241128T222907Z
LAST-MODIFIED:20251126T153811Z
UID:10001658-1736679600-1736683200@srfdfw.org
SUMMARY:Sunday School
DESCRIPTION:
URL:https://srfdfw.org/calendar/sunday-school-1100-am-2/2025-01-12/
LOCATION:2011 North Britain Road\, Irving\, TX\, 2011 N. Britain Rd.\, Irving\, TX\, 76051\, United States
ORGANIZER;CN="DFW-SRF Meditation Group":MAILTO:connect@srfdallasfortworth.org
END:VEVENT
BEGIN:VEVENT
DTSTART;TZID=America/Chicago:20250112T110000
DTEND;TZID=America/Chicago:20250112T120000
DTSTAMP:20260420T232742
CREATED:20241128T222515Z
LAST-MODIFIED:20260211T212637Z
UID:10001397-1736679600-1736683200@srfdfw.org
SUMMARY:Sunday Reading Service
DESCRIPTION:The Readings Service includes periods of meditation\, inspirational reading of topics by Paramahansa Yogananda\, and chanting. We also include the World Wide Prayer Circle of SRF members and friends where we pray for world peace and for those who have requested\, physical\, mental\, or spiritual healing.
URL:https://srfdfw.org/calendar/readings-service-2-2/2025-01-12/
LOCATION:DFW Meditation Group\, 2011 N. Britain Rd.\, Irving\, TX\, 76051\, United States
ORGANIZER;CN="DFW-SRF Meditation Group":MAILTO:connect@srfdallasfortworth.org
GEO:32.8347664;-96.9448622
X-APPLE-STRUCTURED-LOCATION;VALUE=URI;X-ADDRESS=DFW Meditation Group 2011 N. Britain Rd. Irving TX 76051 United States;X-APPLE-RADIUS=500;X-TITLE=2011 N. Britain Rd.:geo:-96.9448622,32.8347664
END:VEVENT
BEGIN:VEVENT
DTSTART;TZID=America/Chicago:20250112T100000
DTEND;TZID=America/Chicago:20250112T104500
DTSTAMP:20260420T232742
CREATED:20220711T161139Z
LAST-MODIFIED:20250222T174412Z
UID:10001136-1736676000-1736678700@srfdfw.org
SUMMARY:Sunday Meditation Service
DESCRIPTION:Our meditation service is devoted to silent meditation. There is a short inspirational message at the beginning followed by a chant\, then meditation. We also include the World Wide Prayer Circle of SRF members and friends where we pray for world peace and for those who have requested\, physical\, mental\, or spiritual healing.
URL:https://srfdfw.org/calendar/meditation-service-reading-service/2025-01-12/
LOCATION:DFW Meditation Group\, 2011 N. Britain Rd.\, Irving\, TX\, 76051\, United States
ORGANIZER;CN="DFW-SRF Meditation Group":MAILTO:connect@srfdallasfortworth.org
GEO:32.8347664;-96.9448622
X-APPLE-STRUCTURED-LOCATION;VALUE=URI;X-ADDRESS=DFW Meditation Group 2011 N. Britain Rd. Irving TX 76051 United States;X-APPLE-RADIUS=500;X-TITLE=2011 N. Britain Rd.:geo:-96.9448622,32.8347664
END:VEVENT
BEGIN:VEVENT
DTSTART;TZID=America/Chicago:20250108T190000
DTEND;TZID=America/Chicago:20250108T203000
DTSTAMP:20260420T232742
CREATED:20220910T223756Z
LAST-MODIFIED:20250623T133159Z
UID:10000519-1736362800-1736368200@srfdfw.org
SUMMARY:Wednesday Online Meditation
DESCRIPTION:7 pm – 7.15 pm Energization Exercises \n7.20 pm -8.30 Group Meditation with Inspirational-reading\, Chants\, Meditation and Healing Service . \nLink to Join Zoom Meeting: \nhttps://us02web.zoom.us/j/73165306898?pwd=RmZLelBDUWpIT2kvSm9DSWhQVmZKQT09 \nMeeting ID: 731 6530 6898 \nPasscode: 917834
URL:https://srfdfw.org/calendar/wednesday-meditation/2025-01-08/
LOCATION:DFW Meditation Group\, 2011 N. Britain Rd.\, Irving\, TX\, 76051\, United States
GEO:32.8347664;-96.9448622
X-APPLE-STRUCTURED-LOCATION;VALUE=URI;X-ADDRESS=DFW Meditation Group 2011 N. Britain Rd. Irving TX 76051 United States;X-APPLE-RADIUS=500;X-TITLE=2011 N. Britain Rd.:geo:-96.9448622,32.8347664
END:VEVENT
BEGIN:VEVENT
DTSTART;TZID=America/Chicago:20250105T110000
DTEND;TZID=America/Chicago:20250105T120000
DTSTAMP:20260420T232742
CREATED:20241128T222907Z
LAST-MODIFIED:20251126T153811Z
UID:10001657-1736074800-1736078400@srfdfw.org
SUMMARY:Sunday School
DESCRIPTION:
URL:https://srfdfw.org/calendar/sunday-school-1100-am-2/2025-01-05/
LOCATION:2011 North Britain Road\, Irving\, TX\, 2011 N. Britain Rd.\, Irving\, TX\, 76051\, United States
ORGANIZER;CN="DFW-SRF Meditation Group":MAILTO:connect@srfdallasfortworth.org
END:VEVENT
BEGIN:VEVENT
DTSTART;TZID=America/Chicago:20250105T110000
DTEND;TZID=America/Chicago:20250105T120000
DTSTAMP:20260420T232742
CREATED:20241128T222515Z
LAST-MODIFIED:20260211T212637Z
UID:10001396-1736074800-1736078400@srfdfw.org
SUMMARY:Sunday Reading Service
DESCRIPTION:The Readings Service includes periods of meditation\, inspirational reading of topics by Paramahansa Yogananda\, and chanting. We also include the World Wide Prayer Circle of SRF members and friends where we pray for world peace and for those who have requested\, physical\, mental\, or spiritual healing.
URL:https://srfdfw.org/calendar/readings-service-2-2/2025-01-05/
LOCATION:DFW Meditation Group\, 2011 N. Britain Rd.\, Irving\, TX\, 76051\, United States
ORGANIZER;CN="DFW-SRF Meditation Group":MAILTO:connect@srfdallasfortworth.org
GEO:32.8347664;-96.9448622
X-APPLE-STRUCTURED-LOCATION;VALUE=URI;X-ADDRESS=DFW Meditation Group 2011 N. Britain Rd. Irving TX 76051 United States;X-APPLE-RADIUS=500;X-TITLE=2011 N. Britain Rd.:geo:-96.9448622,32.8347664
END:VEVENT
BEGIN:VEVENT
DTSTART;TZID=America/Chicago:20250105T100000
DTEND;TZID=America/Chicago:20250105T104500
DTSTAMP:20260420T232742
CREATED:20220711T161139Z
LAST-MODIFIED:20250222T174412Z
UID:10001135-1736071200-1736073900@srfdfw.org
SUMMARY:Sunday Meditation Service
DESCRIPTION:Our meditation service is devoted to silent meditation. There is a short inspirational message at the beginning followed by a chant\, then meditation. We also include the World Wide Prayer Circle of SRF members and friends where we pray for world peace and for those who have requested\, physical\, mental\, or spiritual healing.
URL:https://srfdfw.org/calendar/meditation-service-reading-service/2025-01-05/
LOCATION:DFW Meditation Group\, 2011 N. Britain Rd.\, Irving\, TX\, 76051\, United States
ORGANIZER;CN="DFW-SRF Meditation Group":MAILTO:connect@srfdallasfortworth.org
GEO:32.8347664;-96.9448622
X-APPLE-STRUCTURED-LOCATION;VALUE=URI;X-ADDRESS=DFW Meditation Group 2011 N. Britain Rd. Irving TX 76051 United States;X-APPLE-RADIUS=500;X-TITLE=2011 N. Britain Rd.:geo:-96.9448622,32.8347664
END:VEVENT
BEGIN:VEVENT
DTSTART;TZID=America/Chicago:20250101T190000
DTEND;TZID=America/Chicago:20250101T203000
DTSTAMP:20260420T232742
CREATED:20220910T223756Z
LAST-MODIFIED:20250623T133159Z
UID:10000518-1735758000-1735763400@srfdfw.org
SUMMARY:Wednesday Online Meditation
DESCRIPTION:7 pm – 7.15 pm Energization Exercises \n7.20 pm -8.30 Group Meditation with Inspirational-reading\, Chants\, Meditation and Healing Service . \nLink to Join Zoom Meeting: \nhttps://us02web.zoom.us/j/73165306898?pwd=RmZLelBDUWpIT2kvSm9DSWhQVmZKQT09 \nMeeting ID: 731 6530 6898 \nPasscode: 917834
URL:https://srfdfw.org/calendar/wednesday-meditation/2025-01-01/
LOCATION:DFW Meditation Group\, 2011 N. Britain Rd.\, Irving\, TX\, 76051\, United States
GEO:32.8347664;-96.9448622
X-APPLE-STRUCTURED-LOCATION;VALUE=URI;X-ADDRESS=DFW Meditation Group 2011 N. Britain Rd. Irving TX 76051 United States;X-APPLE-RADIUS=500;X-TITLE=2011 N. Britain Rd.:geo:-96.9448622,32.8347664
END:VEVENT
BEGIN:VEVENT
DTSTART;TZID=America/Chicago:20241229T110000
DTEND;TZID=America/Chicago:20241229T120000
DTSTAMP:20260420T232742
CREATED:20241128T222907Z
LAST-MODIFIED:20251126T153811Z
UID:10001656-1735470000-1735473600@srfdfw.org
SUMMARY:Sunday School
DESCRIPTION:
URL:https://srfdfw.org/calendar/sunday-school-1100-am-2/2024-12-29/
LOCATION:2011 North Britain Road\, Irving\, TX\, 2011 N. Britain Rd.\, Irving\, TX\, 76051\, United States
ORGANIZER;CN="DFW-SRF Meditation Group":MAILTO:connect@srfdallasfortworth.org
END:VEVENT
BEGIN:VEVENT
DTSTART;TZID=America/Chicago:20241229T110000
DTEND;TZID=America/Chicago:20241229T120000
DTSTAMP:20260420T232742
CREATED:20241128T222515Z
LAST-MODIFIED:20260211T212637Z
UID:10001395-1735470000-1735473600@srfdfw.org
SUMMARY:Sunday Reading Service
DESCRIPTION:The Readings Service includes periods of meditation\, inspirational reading of topics by Paramahansa Yogananda\, and chanting. We also include the World Wide Prayer Circle of SRF members and friends where we pray for world peace and for those who have requested\, physical\, mental\, or spiritual healing.
URL:https://srfdfw.org/calendar/readings-service-2-2/2024-12-29/
LOCATION:DFW Meditation Group\, 2011 N. Britain Rd.\, Irving\, TX\, 76051\, United States
ORGANIZER;CN="DFW-SRF Meditation Group":MAILTO:connect@srfdallasfortworth.org
GEO:32.8347664;-96.9448622
X-APPLE-STRUCTURED-LOCATION;VALUE=URI;X-ADDRESS=DFW Meditation Group 2011 N. Britain Rd. Irving TX 76051 United States;X-APPLE-RADIUS=500;X-TITLE=2011 N. Britain Rd.:geo:-96.9448622,32.8347664
END:VEVENT
END:VCALENDAR