BEGIN:VCALENDAR
VERSION:2.0
PRODID:-//DFW Meditation Group of SRF - ECPv6.15.20//NONSGML v1.0//EN
CALSCALE:GREGORIAN
METHOD:PUBLISH
X-WR-CALNAME:DFW Meditation Group of SRF
X-ORIGINAL-URL:https://srfdfw.org
X-WR-CALDESC:Events for DFW Meditation Group of SRF
REFRESH-INTERVAL;VALUE=DURATION:PT1H
X-Robots-Tag:noindex
X-PUBLISHED-TTL:PT1H
BEGIN:VTIMEZONE
TZID:America/Chicago
BEGIN:DAYLIGHT
TZOFFSETFROM:-0600
TZOFFSETTO:-0500
TZNAME:CDT
DTSTART:20230312T080000
END:DAYLIGHT
BEGIN:STANDARD
TZOFFSETFROM:-0500
TZOFFSETTO:-0600
TZNAME:CST
DTSTART:20231105T070000
END:STANDARD
BEGIN:DAYLIGHT
TZOFFSETFROM:-0600
TZOFFSETTO:-0500
TZNAME:CDT
DTSTART:20240310T080000
END:DAYLIGHT
BEGIN:STANDARD
TZOFFSETFROM:-0500
TZOFFSETTO:-0600
TZNAME:CST
DTSTART:20241103T070000
END:STANDARD
BEGIN:DAYLIGHT
TZOFFSETFROM:-0600
TZOFFSETTO:-0500
TZNAME:CDT
DTSTART:20250309T080000
END:DAYLIGHT
BEGIN:STANDARD
TZOFFSETFROM:-0500
TZOFFSETTO:-0600
TZNAME:CST
DTSTART:20251102T070000
END:STANDARD
END:VTIMEZONE
BEGIN:VEVENT
DTSTART;TZID=America/Chicago:20241215T110000
DTEND;TZID=America/Chicago:20241215T120000
DTSTAMP:20260420T210113
CREATED:20241128T222907Z
LAST-MODIFIED:20251126T153811Z
UID:10001654-1734260400-1734264000@srfdfw.org
SUMMARY:Sunday School
DESCRIPTION:
URL:https://srfdfw.org/calendar/sunday-school-1100-am-2/2024-12-15/
LOCATION:2011 North Britain Road\, Irving\, TX\, 2011 N. Britain Rd.\, Irving\, TX\, 76051\, United States
ORGANIZER;CN="DFW-SRF Meditation Group":MAILTO:connect@srfdallasfortworth.org
END:VEVENT
BEGIN:VEVENT
DTSTART;TZID=America/Chicago:20241215T110000
DTEND;TZID=America/Chicago:20241215T120000
DTSTAMP:20260420T210113
CREATED:20241128T222515Z
LAST-MODIFIED:20260211T212637Z
UID:10001393-1734260400-1734264000@srfdfw.org
SUMMARY:Sunday Reading Service
DESCRIPTION:The Readings Service includes periods of meditation\, inspirational reading of topics by Paramahansa Yogananda\, and chanting. We also include the World Wide Prayer Circle of SRF members and friends where we pray for world peace and for those who have requested\, physical\, mental\, or spiritual healing.
URL:https://srfdfw.org/calendar/readings-service-2-2/2024-12-15/
LOCATION:DFW Meditation Group\, 2011 N. Britain Rd.\, Irving\, TX\, 76051\, United States
ORGANIZER;CN="DFW-SRF Meditation Group":MAILTO:connect@srfdallasfortworth.org
GEO:32.8347664;-96.9448622
X-APPLE-STRUCTURED-LOCATION;VALUE=URI;X-ADDRESS=DFW Meditation Group 2011 N. Britain Rd. Irving TX 76051 United States;X-APPLE-RADIUS=500;X-TITLE=2011 N. Britain Rd.:geo:-96.9448622,32.8347664
END:VEVENT
BEGIN:VEVENT
DTSTART;TZID=America/Chicago:20241215T100000
DTEND;TZID=America/Chicago:20241215T104500
DTSTAMP:20260420T210113
CREATED:20220711T161139Z
LAST-MODIFIED:20250222T174412Z
UID:10001132-1734256800-1734259500@srfdfw.org
SUMMARY:Sunday Meditation Service
DESCRIPTION:Our meditation service is devoted to silent meditation. There is a short inspirational message at the beginning followed by a chant\, then meditation. We also include the World Wide Prayer Circle of SRF members and friends where we pray for world peace and for those who have requested\, physical\, mental\, or spiritual healing.
URL:https://srfdfw.org/calendar/meditation-service-reading-service/2024-12-15/
LOCATION:DFW Meditation Group\, 2011 N. Britain Rd.\, Irving\, TX\, 76051\, United States
ORGANIZER;CN="DFW-SRF Meditation Group":MAILTO:connect@srfdallasfortworth.org
GEO:32.8347664;-96.9448622
X-APPLE-STRUCTURED-LOCATION;VALUE=URI;X-ADDRESS=DFW Meditation Group 2011 N. Britain Rd. Irving TX 76051 United States;X-APPLE-RADIUS=500;X-TITLE=2011 N. Britain Rd.:geo:-96.9448622,32.8347664
END:VEVENT
BEGIN:VEVENT
DTSTART;TZID=America/Chicago:20241214T100000
DTEND;TZID=America/Chicago:20241214T170000
DTSTAMP:20260420T210113
CREATED:20221024T170255Z
LAST-MODIFIED:20241128T220946Z
UID:10001878-1734170400-1734195600@srfdfw.org
SUMMARY:Christmas All Day Meditation 10 am to 5 pm
DESCRIPTION:Paramahansa Yogananda inaugurated the custom of holding an all-day meditation service during the Christmas season to foster communion with the Christ Consciousness\, which he said constitutes the true celebration of Christmas. \nPlease visit the DFW All Day Christmas Meditation page to review this important information to get the most out of this special day– \n\nAttendance Guidelines\nHow to Prepare\nWhat to Bring\n\n 
URL:https://srfdfw.org/calendar/christmas-all-day-meditation-10-am-to-6-pm/
LOCATION:2011 North Britain Road\, Irving\, TX\, 2011 N. Britain Rd.\, Irving\, TX\, 76051\, United States
ORGANIZER;CN="DFW-SRF Meditation Group":MAILTO:connect@srfdallasfortworth.org
END:VEVENT
BEGIN:VEVENT
DTSTART;TZID=America/Chicago:20241211T190000
DTEND;TZID=America/Chicago:20241211T203000
DTSTAMP:20260420T210113
CREATED:20220910T223756Z
LAST-MODIFIED:20250623T133159Z
UID:10000515-1733943600-1733949000@srfdfw.org
SUMMARY:Wednesday Online Meditation
DESCRIPTION:7 pm – 7.15 pm Energization Exercises \n7.20 pm -8.30 Group Meditation with Inspirational-reading\, Chants\, Meditation and Healing Service . \nLink to Join Zoom Meeting: \nhttps://us02web.zoom.us/j/73165306898?pwd=RmZLelBDUWpIT2kvSm9DSWhQVmZKQT09 \nMeeting ID: 731 6530 6898 \nPasscode: 917834
URL:https://srfdfw.org/calendar/wednesday-meditation/2024-12-11/
LOCATION:DFW Meditation Group\, 2011 N. Britain Rd.\, Irving\, TX\, 76051\, United States
GEO:32.8347664;-96.9448622
X-APPLE-STRUCTURED-LOCATION;VALUE=URI;X-ADDRESS=DFW Meditation Group 2011 N. Britain Rd. Irving TX 76051 United States;X-APPLE-RADIUS=500;X-TITLE=2011 N. Britain Rd.:geo:-96.9448622,32.8347664
END:VEVENT
BEGIN:VEVENT
DTSTART;TZID=America/Chicago:20241208T110000
DTEND;TZID=America/Chicago:20241208T120000
DTSTAMP:20260420T210113
CREATED:20241128T222907Z
LAST-MODIFIED:20251126T153811Z
UID:10001653-1733655600-1733659200@srfdfw.org
SUMMARY:Sunday School
DESCRIPTION:
URL:https://srfdfw.org/calendar/sunday-school-1100-am-2/2024-12-08/
LOCATION:2011 North Britain Road\, Irving\, TX\, 2011 N. Britain Rd.\, Irving\, TX\, 76051\, United States
ORGANIZER;CN="DFW-SRF Meditation Group":MAILTO:connect@srfdallasfortworth.org
END:VEVENT
BEGIN:VEVENT
DTSTART;TZID=America/Chicago:20241208T110000
DTEND;TZID=America/Chicago:20241208T120000
DTSTAMP:20260420T210113
CREATED:20241128T222515Z
LAST-MODIFIED:20260211T212637Z
UID:10001392-1733655600-1733659200@srfdfw.org
SUMMARY:Sunday Reading Service
DESCRIPTION:The Readings Service includes periods of meditation\, inspirational reading of topics by Paramahansa Yogananda\, and chanting. We also include the World Wide Prayer Circle of SRF members and friends where we pray for world peace and for those who have requested\, physical\, mental\, or spiritual healing.
URL:https://srfdfw.org/calendar/readings-service-2-2/2024-12-08/
LOCATION:DFW Meditation Group\, 2011 N. Britain Rd.\, Irving\, TX\, 76051\, United States
ORGANIZER;CN="DFW-SRF Meditation Group":MAILTO:connect@srfdallasfortworth.org
GEO:32.8347664;-96.9448622
X-APPLE-STRUCTURED-LOCATION;VALUE=URI;X-ADDRESS=DFW Meditation Group 2011 N. Britain Rd. Irving TX 76051 United States;X-APPLE-RADIUS=500;X-TITLE=2011 N. Britain Rd.:geo:-96.9448622,32.8347664
END:VEVENT
BEGIN:VEVENT
DTSTART;TZID=America/Chicago:20241208T100000
DTEND;TZID=America/Chicago:20241208T104500
DTSTAMP:20260420T210113
CREATED:20220711T161139Z
LAST-MODIFIED:20250222T174412Z
UID:10001131-1733652000-1733654700@srfdfw.org
SUMMARY:Sunday Meditation Service
DESCRIPTION:Our meditation service is devoted to silent meditation. There is a short inspirational message at the beginning followed by a chant\, then meditation. We also include the World Wide Prayer Circle of SRF members and friends where we pray for world peace and for those who have requested\, physical\, mental\, or spiritual healing.
URL:https://srfdfw.org/calendar/meditation-service-reading-service/2024-12-08/
LOCATION:DFW Meditation Group\, 2011 N. Britain Rd.\, Irving\, TX\, 76051\, United States
ORGANIZER;CN="DFW-SRF Meditation Group":MAILTO:connect@srfdallasfortworth.org
GEO:32.8347664;-96.9448622
X-APPLE-STRUCTURED-LOCATION;VALUE=URI;X-ADDRESS=DFW Meditation Group 2011 N. Britain Rd. Irving TX 76051 United States;X-APPLE-RADIUS=500;X-TITLE=2011 N. Britain Rd.:geo:-96.9448622,32.8347664
END:VEVENT
BEGIN:VEVENT
DTSTART;TZID=America/Chicago:20241204T190000
DTEND;TZID=America/Chicago:20241204T203000
DTSTAMP:20260420T210113
CREATED:20220910T223756Z
LAST-MODIFIED:20250623T133159Z
UID:10000514-1733338800-1733344200@srfdfw.org
SUMMARY:Wednesday Online Meditation
DESCRIPTION:7 pm – 7.15 pm Energization Exercises \n7.20 pm -8.30 Group Meditation with Inspirational-reading\, Chants\, Meditation and Healing Service . \nLink to Join Zoom Meeting: \nhttps://us02web.zoom.us/j/73165306898?pwd=RmZLelBDUWpIT2kvSm9DSWhQVmZKQT09 \nMeeting ID: 731 6530 6898 \nPasscode: 917834
URL:https://srfdfw.org/calendar/wednesday-meditation/2024-12-04/
LOCATION:DFW Meditation Group\, 2011 N. Britain Rd.\, Irving\, TX\, 76051\, United States
GEO:32.8347664;-96.9448622
X-APPLE-STRUCTURED-LOCATION;VALUE=URI;X-ADDRESS=DFW Meditation Group 2011 N. Britain Rd. Irving TX 76051 United States;X-APPLE-RADIUS=500;X-TITLE=2011 N. Britain Rd.:geo:-96.9448622,32.8347664
END:VEVENT
BEGIN:VEVENT
DTSTART;TZID=America/Chicago:20241201T110000
DTEND;TZID=America/Chicago:20241201T120000
DTSTAMP:20260420T210113
CREATED:20241128T222907Z
LAST-MODIFIED:20251126T153811Z
UID:10002061-1733050800-1733054400@srfdfw.org
SUMMARY:Sunday School
DESCRIPTION:
URL:https://srfdfw.org/calendar/sunday-school-1100-am-2/2024-12-01/
LOCATION:2011 North Britain Road\, Irving\, TX\, 2011 N. Britain Rd.\, Irving\, TX\, 76051\, United States
ORGANIZER;CN="DFW-SRF Meditation Group":MAILTO:connect@srfdallasfortworth.org
END:VEVENT
BEGIN:VEVENT
DTSTART;TZID=America/Chicago:20241201T110000
DTEND;TZID=America/Chicago:20241201T120000
DTSTAMP:20260420T210113
CREATED:20241128T222515Z
LAST-MODIFIED:20260211T212637Z
UID:10002059-1733050800-1733054400@srfdfw.org
SUMMARY:Sunday Reading Service
DESCRIPTION:The Readings Service includes periods of meditation\, inspirational reading of topics by Paramahansa Yogananda\, and chanting. We also include the World Wide Prayer Circle of SRF members and friends where we pray for world peace and for those who have requested\, physical\, mental\, or spiritual healing.
URL:https://srfdfw.org/calendar/readings-service-2-2/2024-12-01/
LOCATION:DFW Meditation Group\, 2011 N. Britain Rd.\, Irving\, TX\, 76051\, United States
ORGANIZER;CN="DFW-SRF Meditation Group":MAILTO:connect@srfdallasfortworth.org
GEO:32.8347664;-96.9448622
X-APPLE-STRUCTURED-LOCATION;VALUE=URI;X-ADDRESS=DFW Meditation Group 2011 N. Britain Rd. Irving TX 76051 United States;X-APPLE-RADIUS=500;X-TITLE=2011 N. Britain Rd.:geo:-96.9448622,32.8347664
END:VEVENT
BEGIN:VEVENT
DTSTART;TZID=America/Chicago:20241201T100000
DTEND;TZID=America/Chicago:20241201T104500
DTSTAMP:20260420T210113
CREATED:20220711T161139Z
LAST-MODIFIED:20250222T174412Z
UID:10001130-1733047200-1733049900@srfdfw.org
SUMMARY:Sunday Meditation Service
DESCRIPTION:Our meditation service is devoted to silent meditation. There is a short inspirational message at the beginning followed by a chant\, then meditation. We also include the World Wide Prayer Circle of SRF members and friends where we pray for world peace and for those who have requested\, physical\, mental\, or spiritual healing.
URL:https://srfdfw.org/calendar/meditation-service-reading-service/2024-12-01/
LOCATION:DFW Meditation Group\, 2011 N. Britain Rd.\, Irving\, TX\, 76051\, United States
ORGANIZER;CN="DFW-SRF Meditation Group":MAILTO:connect@srfdallasfortworth.org
GEO:32.8347664;-96.9448622
X-APPLE-STRUCTURED-LOCATION;VALUE=URI;X-ADDRESS=DFW Meditation Group 2011 N. Britain Rd. Irving TX 76051 United States;X-APPLE-RADIUS=500;X-TITLE=2011 N. Britain Rd.:geo:-96.9448622,32.8347664
END:VEVENT
BEGIN:VEVENT
DTSTART;TZID=America/Chicago:20241127T190000
DTEND;TZID=America/Chicago:20241127T203000
DTSTAMP:20260420T210113
CREATED:20220910T223756Z
LAST-MODIFIED:20250623T133159Z
UID:10000513-1732734000-1732739400@srfdfw.org
SUMMARY:Wednesday Online Meditation
DESCRIPTION:7 pm – 7.15 pm Energization Exercises \n7.20 pm -8.30 Group Meditation with Inspirational-reading\, Chants\, Meditation and Healing Service . \nLink to Join Zoom Meeting: \nhttps://us02web.zoom.us/j/73165306898?pwd=RmZLelBDUWpIT2kvSm9DSWhQVmZKQT09 \nMeeting ID: 731 6530 6898 \nPasscode: 917834
URL:https://srfdfw.org/calendar/wednesday-meditation/2024-11-27/
LOCATION:DFW Meditation Group\, 2011 N. Britain Rd.\, Irving\, TX\, 76051\, United States
GEO:32.8347664;-96.9448622
X-APPLE-STRUCTURED-LOCATION;VALUE=URI;X-ADDRESS=DFW Meditation Group 2011 N. Britain Rd. Irving TX 76051 United States;X-APPLE-RADIUS=500;X-TITLE=2011 N. Britain Rd.:geo:-96.9448622,32.8347664
END:VEVENT
BEGIN:VEVENT
DTSTART;TZID=America/Chicago:20241124T110000
DTEND;TZID=America/Chicago:20241124T120000
DTSTAMP:20260420T210113
CREATED:20241128T222907Z
LAST-MODIFIED:20251126T153811Z
UID:10002060-1732446000-1732449600@srfdfw.org
SUMMARY:Sunday School
DESCRIPTION:
URL:https://srfdfw.org/calendar/sunday-school-1100-am-2/2024-11-24/
LOCATION:2011 North Britain Road\, Irving\, TX\, 2011 N. Britain Rd.\, Irving\, TX\, 76051\, United States
ORGANIZER;CN="DFW-SRF Meditation Group":MAILTO:connect@srfdallasfortworth.org
END:VEVENT
BEGIN:VEVENT
DTSTART;TZID=America/Chicago:20241124T110000
DTEND;TZID=America/Chicago:20241124T120000
DTSTAMP:20260420T210113
CREATED:20241128T222515Z
LAST-MODIFIED:20260211T212637Z
UID:10002058-1732446000-1732449600@srfdfw.org
SUMMARY:Sunday Reading Service
DESCRIPTION:The Readings Service includes periods of meditation\, inspirational reading of topics by Paramahansa Yogananda\, and chanting. We also include the World Wide Prayer Circle of SRF members and friends where we pray for world peace and for those who have requested\, physical\, mental\, or spiritual healing.
URL:https://srfdfw.org/calendar/readings-service-2-2/2024-11-24/
LOCATION:DFW Meditation Group\, 2011 N. Britain Rd.\, Irving\, TX\, 76051\, United States
ORGANIZER;CN="DFW-SRF Meditation Group":MAILTO:connect@srfdallasfortworth.org
GEO:32.8347664;-96.9448622
X-APPLE-STRUCTURED-LOCATION;VALUE=URI;X-ADDRESS=DFW Meditation Group 2011 N. Britain Rd. Irving TX 76051 United States;X-APPLE-RADIUS=500;X-TITLE=2011 N. Britain Rd.:geo:-96.9448622,32.8347664
END:VEVENT
BEGIN:VEVENT
DTSTART;TZID=America/Chicago:20241124T110000
DTEND;TZID=America/Chicago:20241124T120000
DTSTAMP:20260420T210113
CREATED:20221207T164922Z
LAST-MODIFIED:20241106T224650Z
UID:10001651-1732446000-1732449600@srfdfw.org
SUMMARY:Sunday School
DESCRIPTION:
URL:https://srfdfw.org/calendar/sunday-school-1100-am/2024-11-24/
LOCATION:2011 North Britain Road\, Irving\, TX\, 2011 N. Britain Rd.\, Irving\, TX\, 76051\, United States
ORGANIZER;CN="DFW-SRF Meditation Group":MAILTO:connect@srfdallasfortworth.org
END:VEVENT
BEGIN:VEVENT
DTSTART;TZID=America/Chicago:20241124T100000
DTEND;TZID=America/Chicago:20241124T104500
DTSTAMP:20260420T210113
CREATED:20220711T161139Z
LAST-MODIFIED:20250222T174412Z
UID:10001129-1732442400-1732445100@srfdfw.org
SUMMARY:Sunday Meditation Service
DESCRIPTION:Our meditation service is devoted to silent meditation. There is a short inspirational message at the beginning followed by a chant\, then meditation. We also include the World Wide Prayer Circle of SRF members and friends where we pray for world peace and for those who have requested\, physical\, mental\, or spiritual healing.
URL:https://srfdfw.org/calendar/meditation-service-reading-service/2024-11-24/
LOCATION:DFW Meditation Group\, 2011 N. Britain Rd.\, Irving\, TX\, 76051\, United States
ORGANIZER;CN="DFW-SRF Meditation Group":MAILTO:connect@srfdallasfortworth.org
GEO:32.8347664;-96.9448622
X-APPLE-STRUCTURED-LOCATION;VALUE=URI;X-ADDRESS=DFW Meditation Group 2011 N. Britain Rd. Irving TX 76051 United States;X-APPLE-RADIUS=500;X-TITLE=2011 N. Britain Rd.:geo:-96.9448622,32.8347664
END:VEVENT
BEGIN:VEVENT
DTSTART;TZID=America/Chicago:20241120T190000
DTEND;TZID=America/Chicago:20241120T203000
DTSTAMP:20260420T210113
CREATED:20220910T223756Z
LAST-MODIFIED:20250623T133159Z
UID:10000512-1732129200-1732134600@srfdfw.org
SUMMARY:Wednesday Online Meditation
DESCRIPTION:7 pm – 7.15 pm Energization Exercises \n7.20 pm -8.30 Group Meditation with Inspirational-reading\, Chants\, Meditation and Healing Service . \nLink to Join Zoom Meeting: \nhttps://us02web.zoom.us/j/73165306898?pwd=RmZLelBDUWpIT2kvSm9DSWhQVmZKQT09 \nMeeting ID: 731 6530 6898 \nPasscode: 917834
URL:https://srfdfw.org/calendar/wednesday-meditation/2024-11-20/
LOCATION:DFW Meditation Group\, 2011 N. Britain Rd.\, Irving\, TX\, 76051\, United States
GEO:32.8347664;-96.9448622
X-APPLE-STRUCTURED-LOCATION;VALUE=URI;X-ADDRESS=DFW Meditation Group 2011 N. Britain Rd. Irving TX 76051 United States;X-APPLE-RADIUS=500;X-TITLE=2011 N. Britain Rd.:geo:-96.9448622,32.8347664
END:VEVENT
BEGIN:VEVENT
DTSTART;TZID=America/Chicago:20241117T110000
DTEND;TZID=America/Chicago:20241117T120000
DTSTAMP:20260420T210113
CREATED:20241128T222907Z
LAST-MODIFIED:20251126T153811Z
UID:10001652-1731841200-1731844800@srfdfw.org
SUMMARY:Sunday School
DESCRIPTION:
URL:https://srfdfw.org/calendar/sunday-school-1100-am-2/2024-11-17/
LOCATION:2011 North Britain Road\, Irving\, TX\, 2011 N. Britain Rd.\, Irving\, TX\, 76051\, United States
ORGANIZER;CN="DFW-SRF Meditation Group":MAILTO:connect@srfdallasfortworth.org
END:VEVENT
BEGIN:VEVENT
DTSTART;TZID=America/Chicago:20241117T110000
DTEND;TZID=America/Chicago:20241117T120000
DTSTAMP:20260420T210113
CREATED:20241128T222515Z
LAST-MODIFIED:20260211T212637Z
UID:10001391-1731841200-1731844800@srfdfw.org
SUMMARY:Sunday Reading Service
DESCRIPTION:The Readings Service includes periods of meditation\, inspirational reading of topics by Paramahansa Yogananda\, and chanting. We also include the World Wide Prayer Circle of SRF members and friends where we pray for world peace and for those who have requested\, physical\, mental\, or spiritual healing.
URL:https://srfdfw.org/calendar/readings-service-2-2/2024-11-17/
LOCATION:DFW Meditation Group\, 2011 N. Britain Rd.\, Irving\, TX\, 76051\, United States
ORGANIZER;CN="DFW-SRF Meditation Group":MAILTO:connect@srfdallasfortworth.org
GEO:32.8347664;-96.9448622
X-APPLE-STRUCTURED-LOCATION;VALUE=URI;X-ADDRESS=DFW Meditation Group 2011 N. Britain Rd. Irving TX 76051 United States;X-APPLE-RADIUS=500;X-TITLE=2011 N. Britain Rd.:geo:-96.9448622,32.8347664
END:VEVENT
BEGIN:VEVENT
DTSTART;TZID=America/Chicago:20241117T110000
DTEND;TZID=America/Chicago:20241117T120000
DTSTAMP:20260420T210113
CREATED:20221207T164922Z
LAST-MODIFIED:20241106T224650Z
UID:10001650-1731841200-1731844800@srfdfw.org
SUMMARY:Sunday School
DESCRIPTION:
URL:https://srfdfw.org/calendar/sunday-school-1100-am/2024-11-17/
LOCATION:2011 North Britain Road\, Irving\, TX\, 2011 N. Britain Rd.\, Irving\, TX\, 76051\, United States
ORGANIZER;CN="DFW-SRF Meditation Group":MAILTO:connect@srfdallasfortworth.org
END:VEVENT
BEGIN:VEVENT
DTSTART;TZID=America/Chicago:20241117T100000
DTEND;TZID=America/Chicago:20241117T104500
DTSTAMP:20260420T210113
CREATED:20220711T161139Z
LAST-MODIFIED:20250222T174412Z
UID:10001128-1731837600-1731840300@srfdfw.org
SUMMARY:Sunday Meditation Service
DESCRIPTION:Our meditation service is devoted to silent meditation. There is a short inspirational message at the beginning followed by a chant\, then meditation. We also include the World Wide Prayer Circle of SRF members and friends where we pray for world peace and for those who have requested\, physical\, mental\, or spiritual healing.
URL:https://srfdfw.org/calendar/meditation-service-reading-service/2024-11-17/
LOCATION:DFW Meditation Group\, 2011 N. Britain Rd.\, Irving\, TX\, 76051\, United States
ORGANIZER;CN="DFW-SRF Meditation Group":MAILTO:connect@srfdallasfortworth.org
GEO:32.8347664;-96.9448622
X-APPLE-STRUCTURED-LOCATION;VALUE=URI;X-ADDRESS=DFW Meditation Group 2011 N. Britain Rd. Irving TX 76051 United States;X-APPLE-RADIUS=500;X-TITLE=2011 N. Britain Rd.:geo:-96.9448622,32.8347664
END:VEVENT
BEGIN:VEVENT
DTSTART;TZID=America/Chicago:20241113T190000
DTEND;TZID=America/Chicago:20241113T203000
DTSTAMP:20260420T210113
CREATED:20220910T223756Z
LAST-MODIFIED:20250623T133159Z
UID:10000511-1731524400-1731529800@srfdfw.org
SUMMARY:Wednesday Online Meditation
DESCRIPTION:7 pm – 7.15 pm Energization Exercises \n7.20 pm -8.30 Group Meditation with Inspirational-reading\, Chants\, Meditation and Healing Service . \nLink to Join Zoom Meeting: \nhttps://us02web.zoom.us/j/73165306898?pwd=RmZLelBDUWpIT2kvSm9DSWhQVmZKQT09 \nMeeting ID: 731 6530 6898 \nPasscode: 917834
URL:https://srfdfw.org/calendar/wednesday-meditation/2024-11-13/
LOCATION:DFW Meditation Group\, 2011 N. Britain Rd.\, Irving\, TX\, 76051\, United States
GEO:32.8347664;-96.9448622
X-APPLE-STRUCTURED-LOCATION;VALUE=URI;X-ADDRESS=DFW Meditation Group 2011 N. Britain Rd. Irving TX 76051 United States;X-APPLE-RADIUS=500;X-TITLE=2011 N. Britain Rd.:geo:-96.9448622,32.8347664
END:VEVENT
BEGIN:VEVENT
DTSTART;TZID=America/Chicago:20241110T110000
DTEND;TZID=America/Chicago:20241110T120000
DTSTAMP:20260420T210113
CREATED:20221207T164922Z
LAST-MODIFIED:20241106T224650Z
UID:10001649-1731236400-1731240000@srfdfw.org
SUMMARY:Sunday School
DESCRIPTION:
URL:https://srfdfw.org/calendar/sunday-school-1100-am/2024-11-10/
LOCATION:2011 North Britain Road\, Irving\, TX\, 2011 N. Britain Rd.\, Irving\, TX\, 76051\, United States
ORGANIZER;CN="DFW-SRF Meditation Group":MAILTO:connect@srfdallasfortworth.org
END:VEVENT
BEGIN:VEVENT
DTSTART;TZID=America/Chicago:20241110T100000
DTEND;TZID=America/Chicago:20241110T104500
DTSTAMP:20260420T210113
CREATED:20220711T161139Z
LAST-MODIFIED:20250222T174412Z
UID:10001127-1731232800-1731235500@srfdfw.org
SUMMARY:Sunday Meditation Service
DESCRIPTION:Our meditation service is devoted to silent meditation. There is a short inspirational message at the beginning followed by a chant\, then meditation. We also include the World Wide Prayer Circle of SRF members and friends where we pray for world peace and for those who have requested\, physical\, mental\, or spiritual healing.
URL:https://srfdfw.org/calendar/meditation-service-reading-service/2024-11-10/
LOCATION:DFW Meditation Group\, 2011 N. Britain Rd.\, Irving\, TX\, 76051\, United States
ORGANIZER;CN="DFW-SRF Meditation Group":MAILTO:connect@srfdallasfortworth.org
GEO:32.8347664;-96.9448622
X-APPLE-STRUCTURED-LOCATION;VALUE=URI;X-ADDRESS=DFW Meditation Group 2011 N. Britain Rd. Irving TX 76051 United States;X-APPLE-RADIUS=500;X-TITLE=2011 N. Britain Rd.:geo:-96.9448622,32.8347664
END:VEVENT
BEGIN:VEVENT
DTSTART;TZID=America/Chicago:20241106T190000
DTEND;TZID=America/Chicago:20241106T203000
DTSTAMP:20260420T210113
CREATED:20220910T223756Z
LAST-MODIFIED:20250623T133159Z
UID:10000510-1730919600-1730925000@srfdfw.org
SUMMARY:Wednesday Online Meditation
DESCRIPTION:7 pm – 7.15 pm Energization Exercises \n7.20 pm -8.30 Group Meditation with Inspirational-reading\, Chants\, Meditation and Healing Service . \nLink to Join Zoom Meeting: \nhttps://us02web.zoom.us/j/73165306898?pwd=RmZLelBDUWpIT2kvSm9DSWhQVmZKQT09 \nMeeting ID: 731 6530 6898 \nPasscode: 917834
URL:https://srfdfw.org/calendar/wednesday-meditation/2024-11-06/
LOCATION:DFW Meditation Group\, 2011 N. Britain Rd.\, Irving\, TX\, 76051\, United States
GEO:32.8347664;-96.9448622
X-APPLE-STRUCTURED-LOCATION;VALUE=URI;X-ADDRESS=DFW Meditation Group 2011 N. Britain Rd. Irving TX 76051 United States;X-APPLE-RADIUS=500;X-TITLE=2011 N. Britain Rd.:geo:-96.9448622,32.8347664
END:VEVENT
BEGIN:VEVENT
DTSTART;TZID=America/Chicago:20241103T110000
DTEND;TZID=America/Chicago:20241103T120000
DTSTAMP:20260420T210113
CREATED:20221207T164922Z
LAST-MODIFIED:20241106T224650Z
UID:10001648-1730631600-1730635200@srfdfw.org
SUMMARY:Sunday School
DESCRIPTION:
URL:https://srfdfw.org/calendar/sunday-school-1100-am/2024-11-03/
LOCATION:2011 North Britain Road\, Irving\, TX\, 2011 N. Britain Rd.\, Irving\, TX\, 76051\, United States
ORGANIZER;CN="DFW-SRF Meditation Group":MAILTO:connect@srfdallasfortworth.org
END:VEVENT
BEGIN:VEVENT
DTSTART;TZID=America/Chicago:20241103T100000
DTEND;TZID=America/Chicago:20241103T104500
DTSTAMP:20260420T210113
CREATED:20220711T161139Z
LAST-MODIFIED:20250222T174412Z
UID:10001126-1730628000-1730630700@srfdfw.org
SUMMARY:Sunday Meditation Service
DESCRIPTION:Our meditation service is devoted to silent meditation. There is a short inspirational message at the beginning followed by a chant\, then meditation. We also include the World Wide Prayer Circle of SRF members and friends where we pray for world peace and for those who have requested\, physical\, mental\, or spiritual healing.
URL:https://srfdfw.org/calendar/meditation-service-reading-service/2024-11-03/
LOCATION:DFW Meditation Group\, 2011 N. Britain Rd.\, Irving\, TX\, 76051\, United States
ORGANIZER;CN="DFW-SRF Meditation Group":MAILTO:connect@srfdallasfortworth.org
GEO:32.8347664;-96.9448622
X-APPLE-STRUCTURED-LOCATION;VALUE=URI;X-ADDRESS=DFW Meditation Group 2011 N. Britain Rd. Irving TX 76051 United States;X-APPLE-RADIUS=500;X-TITLE=2011 N. Britain Rd.:geo:-96.9448622,32.8347664
END:VEVENT
BEGIN:VEVENT
DTSTART;TZID=America/Chicago:20241030T190000
DTEND;TZID=America/Chicago:20241030T203000
DTSTAMP:20260420T210113
CREATED:20220910T223756Z
LAST-MODIFIED:20250623T133159Z
UID:10000509-1730314800-1730320200@srfdfw.org
SUMMARY:Wednesday Online Meditation
DESCRIPTION:7 pm – 7.15 pm Energization Exercises \n7.20 pm -8.30 Group Meditation with Inspirational-reading\, Chants\, Meditation and Healing Service . \nLink to Join Zoom Meeting: \nhttps://us02web.zoom.us/j/73165306898?pwd=RmZLelBDUWpIT2kvSm9DSWhQVmZKQT09 \nMeeting ID: 731 6530 6898 \nPasscode: 917834
URL:https://srfdfw.org/calendar/wednesday-meditation/2024-10-30/
LOCATION:DFW Meditation Group\, 2011 N. Britain Rd.\, Irving\, TX\, 76051\, United States
GEO:32.8347664;-96.9448622
X-APPLE-STRUCTURED-LOCATION;VALUE=URI;X-ADDRESS=DFW Meditation Group 2011 N. Britain Rd. Irving TX 76051 United States;X-APPLE-RADIUS=500;X-TITLE=2011 N. Britain Rd.:geo:-96.9448622,32.8347664
END:VEVENT
BEGIN:VEVENT
DTSTART;TZID=America/Chicago:20241027T110000
DTEND;TZID=America/Chicago:20241027T120000
DTSTAMP:20260420T210113
CREATED:20221207T164922Z
LAST-MODIFIED:20241106T224650Z
UID:10001647-1730026800-1730030400@srfdfw.org
SUMMARY:Sunday School
DESCRIPTION:
URL:https://srfdfw.org/calendar/sunday-school-1100-am/2024-10-27/
LOCATION:2011 North Britain Road\, Irving\, TX\, 2011 N. Britain Rd.\, Irving\, TX\, 76051\, United States
ORGANIZER;CN="DFW-SRF Meditation Group":MAILTO:connect@srfdallasfortworth.org
END:VEVENT
END:VCALENDAR