BEGIN:VCALENDAR
VERSION:2.0
PRODID:-//DFW Meditation Group of SRF - ECPv6.15.20//NONSGML v1.0//EN
CALSCALE:GREGORIAN
METHOD:PUBLISH
X-WR-CALNAME:DFW Meditation Group of SRF
X-ORIGINAL-URL:https://srfdfw.org
X-WR-CALDESC:Events for DFW Meditation Group of SRF
REFRESH-INTERVAL;VALUE=DURATION:PT1H
X-Robots-Tag:noindex
X-PUBLISHED-TTL:PT1H
BEGIN:VTIMEZONE
TZID:America/Chicago
BEGIN:DAYLIGHT
TZOFFSETFROM:-0600
TZOFFSETTO:-0500
TZNAME:CDT
DTSTART:20230312T080000
END:DAYLIGHT
BEGIN:STANDARD
TZOFFSETFROM:-0500
TZOFFSETTO:-0600
TZNAME:CST
DTSTART:20231105T070000
END:STANDARD
BEGIN:DAYLIGHT
TZOFFSETFROM:-0600
TZOFFSETTO:-0500
TZNAME:CDT
DTSTART:20240310T080000
END:DAYLIGHT
BEGIN:STANDARD
TZOFFSETFROM:-0500
TZOFFSETTO:-0600
TZNAME:CST
DTSTART:20241103T070000
END:STANDARD
BEGIN:DAYLIGHT
TZOFFSETFROM:-0600
TZOFFSETTO:-0500
TZNAME:CDT
DTSTART:20250309T080000
END:DAYLIGHT
BEGIN:STANDARD
TZOFFSETFROM:-0500
TZOFFSETTO:-0600
TZNAME:CST
DTSTART:20251102T070000
END:STANDARD
END:VTIMEZONE
BEGIN:VEVENT
DTSTART;TZID=America/Chicago:20240925T190000
DTEND;TZID=America/Chicago:20240925T203000
DTSTAMP:20260421T115640
CREATED:20220910T223756Z
LAST-MODIFIED:20250623T133159Z
UID:10000504-1727290800-1727296200@srfdfw.org
SUMMARY:Wednesday Online Meditation
DESCRIPTION:7 pm – 7.15 pm Energization Exercises \n7.20 pm -8.30 Group Meditation with Inspirational-reading\, Chants\, Meditation and Healing Service . \nLink to Join Zoom Meeting: \nhttps://us02web.zoom.us/j/73165306898?pwd=RmZLelBDUWpIT2kvSm9DSWhQVmZKQT09 \nMeeting ID: 731 6530 6898 \nPasscode: 917834
URL:https://srfdfw.org/calendar/wednesday-meditation/2024-09-25/
LOCATION:DFW Meditation Group\, 2011 N. Britain Rd.\, Irving\, TX\, 76051\, United States
GEO:32.8347664;-96.9448622
X-APPLE-STRUCTURED-LOCATION;VALUE=URI;X-ADDRESS=DFW Meditation Group 2011 N. Britain Rd. Irving TX 76051 United States;X-APPLE-RADIUS=500;X-TITLE=2011 N. Britain Rd.:geo:-96.9448622,32.8347664
END:VEVENT
BEGIN:VEVENT
DTSTART;TZID=America/Chicago:20240922T110000
DTEND;TZID=America/Chicago:20240922T120000
DTSTAMP:20260421T115640
CREATED:20221207T164922Z
LAST-MODIFIED:20241106T224650Z
UID:10001642-1727002800-1727006400@srfdfw.org
SUMMARY:Sunday School
DESCRIPTION:
URL:https://srfdfw.org/calendar/sunday-school-1100-am/2024-09-22/
LOCATION:2011 North Britain Road\, Irving\, TX\, 2011 N. Britain Rd.\, Irving\, TX\, 76051\, United States
ORGANIZER;CN="DFW-SRF Meditation Group":MAILTO:connect@srfdallasfortworth.org
END:VEVENT
BEGIN:VEVENT
DTSTART;TZID=America/Chicago:20240922T100000
DTEND;TZID=America/Chicago:20240922T104500
DTSTAMP:20260421T115640
CREATED:20220711T161139Z
LAST-MODIFIED:20250222T174412Z
UID:10001120-1726999200-1727001900@srfdfw.org
SUMMARY:Sunday Meditation Service
DESCRIPTION:Our meditation service is devoted to silent meditation. There is a short inspirational message at the beginning followed by a chant\, then meditation. We also include the World Wide Prayer Circle of SRF members and friends where we pray for world peace and for those who have requested\, physical\, mental\, or spiritual healing.
URL:https://srfdfw.org/calendar/meditation-service-reading-service/2024-09-22/
LOCATION:DFW Meditation Group\, 2011 N. Britain Rd.\, Irving\, TX\, 76051\, United States
ORGANIZER;CN="DFW-SRF Meditation Group":MAILTO:connect@srfdallasfortworth.org
GEO:32.8347664;-96.9448622
X-APPLE-STRUCTURED-LOCATION;VALUE=URI;X-ADDRESS=DFW Meditation Group 2011 N. Britain Rd. Irving TX 76051 United States;X-APPLE-RADIUS=500;X-TITLE=2011 N. Britain Rd.:geo:-96.9448622,32.8347664
END:VEVENT
BEGIN:VEVENT
DTSTART;TZID=America/Chicago:20240918T190000
DTEND;TZID=America/Chicago:20240918T203000
DTSTAMP:20260421T115640
CREATED:20220910T223756Z
LAST-MODIFIED:20250623T133159Z
UID:10000503-1726686000-1726691400@srfdfw.org
SUMMARY:Wednesday Online Meditation
DESCRIPTION:7 pm – 7.15 pm Energization Exercises \n7.20 pm -8.30 Group Meditation with Inspirational-reading\, Chants\, Meditation and Healing Service . \nLink to Join Zoom Meeting: \nhttps://us02web.zoom.us/j/73165306898?pwd=RmZLelBDUWpIT2kvSm9DSWhQVmZKQT09 \nMeeting ID: 731 6530 6898 \nPasscode: 917834
URL:https://srfdfw.org/calendar/wednesday-meditation/2024-09-18/
LOCATION:DFW Meditation Group\, 2011 N. Britain Rd.\, Irving\, TX\, 76051\, United States
GEO:32.8347664;-96.9448622
X-APPLE-STRUCTURED-LOCATION;VALUE=URI;X-ADDRESS=DFW Meditation Group 2011 N. Britain Rd. Irving TX 76051 United States;X-APPLE-RADIUS=500;X-TITLE=2011 N. Britain Rd.:geo:-96.9448622,32.8347664
END:VEVENT
BEGIN:VEVENT
DTSTART;TZID=America/Chicago:20240915T110000
DTEND;TZID=America/Chicago:20240915T120000
DTSTAMP:20260421T115640
CREATED:20221207T164922Z
LAST-MODIFIED:20241106T224650Z
UID:10001641-1726398000-1726401600@srfdfw.org
SUMMARY:Sunday School
DESCRIPTION:
URL:https://srfdfw.org/calendar/sunday-school-1100-am/2024-09-15/
LOCATION:2011 North Britain Road\, Irving\, TX\, 2011 N. Britain Rd.\, Irving\, TX\, 76051\, United States
ORGANIZER;CN="DFW-SRF Meditation Group":MAILTO:connect@srfdallasfortworth.org
END:VEVENT
BEGIN:VEVENT
DTSTART;TZID=America/Chicago:20240915T100000
DTEND;TZID=America/Chicago:20240915T104500
DTSTAMP:20260421T115640
CREATED:20220711T161139Z
LAST-MODIFIED:20250222T174412Z
UID:10001119-1726394400-1726397100@srfdfw.org
SUMMARY:Sunday Meditation Service
DESCRIPTION:Our meditation service is devoted to silent meditation. There is a short inspirational message at the beginning followed by a chant\, then meditation. We also include the World Wide Prayer Circle of SRF members and friends where we pray for world peace and for those who have requested\, physical\, mental\, or spiritual healing.
URL:https://srfdfw.org/calendar/meditation-service-reading-service/2024-09-15/
LOCATION:DFW Meditation Group\, 2011 N. Britain Rd.\, Irving\, TX\, 76051\, United States
ORGANIZER;CN="DFW-SRF Meditation Group":MAILTO:connect@srfdallasfortworth.org
GEO:32.8347664;-96.9448622
X-APPLE-STRUCTURED-LOCATION;VALUE=URI;X-ADDRESS=DFW Meditation Group 2011 N. Britain Rd. Irving TX 76051 United States;X-APPLE-RADIUS=500;X-TITLE=2011 N. Britain Rd.:geo:-96.9448622,32.8347664
END:VEVENT
BEGIN:VEVENT
DTSTART;TZID=America/Chicago:20240911T190000
DTEND;TZID=America/Chicago:20240911T203000
DTSTAMP:20260421T115640
CREATED:20220910T223756Z
LAST-MODIFIED:20250623T133159Z
UID:10000502-1726081200-1726086600@srfdfw.org
SUMMARY:Wednesday Online Meditation
DESCRIPTION:7 pm – 7.15 pm Energization Exercises \n7.20 pm -8.30 Group Meditation with Inspirational-reading\, Chants\, Meditation and Healing Service . \nLink to Join Zoom Meeting: \nhttps://us02web.zoom.us/j/73165306898?pwd=RmZLelBDUWpIT2kvSm9DSWhQVmZKQT09 \nMeeting ID: 731 6530 6898 \nPasscode: 917834
URL:https://srfdfw.org/calendar/wednesday-meditation/2024-09-11/
LOCATION:DFW Meditation Group\, 2011 N. Britain Rd.\, Irving\, TX\, 76051\, United States
GEO:32.8347664;-96.9448622
X-APPLE-STRUCTURED-LOCATION;VALUE=URI;X-ADDRESS=DFW Meditation Group 2011 N. Britain Rd. Irving TX 76051 United States;X-APPLE-RADIUS=500;X-TITLE=2011 N. Britain Rd.:geo:-96.9448622,32.8347664
END:VEVENT
BEGIN:VEVENT
DTSTART;TZID=America/Chicago:20240908T110000
DTEND;TZID=America/Chicago:20240908T120000
DTSTAMP:20260421T115640
CREATED:20221207T164922Z
LAST-MODIFIED:20241106T224650Z
UID:10001640-1725793200-1725796800@srfdfw.org
SUMMARY:Sunday School
DESCRIPTION:
URL:https://srfdfw.org/calendar/sunday-school-1100-am/2024-09-08/
LOCATION:2011 North Britain Road\, Irving\, TX\, 2011 N. Britain Rd.\, Irving\, TX\, 76051\, United States
ORGANIZER;CN="DFW-SRF Meditation Group":MAILTO:connect@srfdallasfortworth.org
END:VEVENT
BEGIN:VEVENT
DTSTART;TZID=America/Chicago:20240908T100000
DTEND;TZID=America/Chicago:20240908T104500
DTSTAMP:20260421T115640
CREATED:20220711T161139Z
LAST-MODIFIED:20250222T174412Z
UID:10001118-1725789600-1725792300@srfdfw.org
SUMMARY:Sunday Meditation Service
DESCRIPTION:Our meditation service is devoted to silent meditation. There is a short inspirational message at the beginning followed by a chant\, then meditation. We also include the World Wide Prayer Circle of SRF members and friends where we pray for world peace and for those who have requested\, physical\, mental\, or spiritual healing.
URL:https://srfdfw.org/calendar/meditation-service-reading-service/2024-09-08/
LOCATION:DFW Meditation Group\, 2011 N. Britain Rd.\, Irving\, TX\, 76051\, United States
ORGANIZER;CN="DFW-SRF Meditation Group":MAILTO:connect@srfdallasfortworth.org
GEO:32.8347664;-96.9448622
X-APPLE-STRUCTURED-LOCATION;VALUE=URI;X-ADDRESS=DFW Meditation Group 2011 N. Britain Rd. Irving TX 76051 United States;X-APPLE-RADIUS=500;X-TITLE=2011 N. Britain Rd.:geo:-96.9448622,32.8347664
END:VEVENT
BEGIN:VEVENT
DTSTART;TZID=America/Chicago:20240904T190000
DTEND;TZID=America/Chicago:20240904T203000
DTSTAMP:20260421T115640
CREATED:20220910T223756Z
LAST-MODIFIED:20250623T133159Z
UID:10000501-1725476400-1725481800@srfdfw.org
SUMMARY:Wednesday Online Meditation
DESCRIPTION:7 pm – 7.15 pm Energization Exercises \n7.20 pm -8.30 Group Meditation with Inspirational-reading\, Chants\, Meditation and Healing Service . \nLink to Join Zoom Meeting: \nhttps://us02web.zoom.us/j/73165306898?pwd=RmZLelBDUWpIT2kvSm9DSWhQVmZKQT09 \nMeeting ID: 731 6530 6898 \nPasscode: 917834
URL:https://srfdfw.org/calendar/wednesday-meditation/2024-09-04/
LOCATION:DFW Meditation Group\, 2011 N. Britain Rd.\, Irving\, TX\, 76051\, United States
GEO:32.8347664;-96.9448622
X-APPLE-STRUCTURED-LOCATION;VALUE=URI;X-ADDRESS=DFW Meditation Group 2011 N. Britain Rd. Irving TX 76051 United States;X-APPLE-RADIUS=500;X-TITLE=2011 N. Britain Rd.:geo:-96.9448622,32.8347664
END:VEVENT
BEGIN:VEVENT
DTSTART;TZID=America/Chicago:20240901T110000
DTEND;TZID=America/Chicago:20240901T120000
DTSTAMP:20260421T115640
CREATED:20221207T164922Z
LAST-MODIFIED:20241106T224650Z
UID:10001639-1725188400-1725192000@srfdfw.org
SUMMARY:Sunday School
DESCRIPTION:
URL:https://srfdfw.org/calendar/sunday-school-1100-am/2024-09-01/
LOCATION:2011 North Britain Road\, Irving\, TX\, 2011 N. Britain Rd.\, Irving\, TX\, 76051\, United States
ORGANIZER;CN="DFW-SRF Meditation Group":MAILTO:connect@srfdallasfortworth.org
END:VEVENT
BEGIN:VEVENT
DTSTART;TZID=America/Chicago:20240901T100000
DTEND;TZID=America/Chicago:20240901T104500
DTSTAMP:20260421T115640
CREATED:20220711T161139Z
LAST-MODIFIED:20250222T174412Z
UID:10001117-1725184800-1725187500@srfdfw.org
SUMMARY:Sunday Meditation Service
DESCRIPTION:Our meditation service is devoted to silent meditation. There is a short inspirational message at the beginning followed by a chant\, then meditation. We also include the World Wide Prayer Circle of SRF members and friends where we pray for world peace and for those who have requested\, physical\, mental\, or spiritual healing.
URL:https://srfdfw.org/calendar/meditation-service-reading-service/2024-09-01/
LOCATION:DFW Meditation Group\, 2011 N. Britain Rd.\, Irving\, TX\, 76051\, United States
ORGANIZER;CN="DFW-SRF Meditation Group":MAILTO:connect@srfdallasfortworth.org
GEO:32.8347664;-96.9448622
X-APPLE-STRUCTURED-LOCATION;VALUE=URI;X-ADDRESS=DFW Meditation Group 2011 N. Britain Rd. Irving TX 76051 United States;X-APPLE-RADIUS=500;X-TITLE=2011 N. Britain Rd.:geo:-96.9448622,32.8347664
END:VEVENT
BEGIN:VEVENT
DTSTART;TZID=America/Chicago:20240828T190000
DTEND;TZID=America/Chicago:20240828T203000
DTSTAMP:20260421T115640
CREATED:20220910T223756Z
LAST-MODIFIED:20250623T133159Z
UID:10000500-1724871600-1724877000@srfdfw.org
SUMMARY:Wednesday Online Meditation
DESCRIPTION:7 pm – 7.15 pm Energization Exercises \n7.20 pm -8.30 Group Meditation with Inspirational-reading\, Chants\, Meditation and Healing Service . \nLink to Join Zoom Meeting: \nhttps://us02web.zoom.us/j/73165306898?pwd=RmZLelBDUWpIT2kvSm9DSWhQVmZKQT09 \nMeeting ID: 731 6530 6898 \nPasscode: 917834
URL:https://srfdfw.org/calendar/wednesday-meditation/2024-08-28/
LOCATION:DFW Meditation Group\, 2011 N. Britain Rd.\, Irving\, TX\, 76051\, United States
GEO:32.8347664;-96.9448622
X-APPLE-STRUCTURED-LOCATION;VALUE=URI;X-ADDRESS=DFW Meditation Group 2011 N. Britain Rd. Irving TX 76051 United States;X-APPLE-RADIUS=500;X-TITLE=2011 N. Britain Rd.:geo:-96.9448622,32.8347664
END:VEVENT
BEGIN:VEVENT
DTSTART;TZID=America/Chicago:20240825T110000
DTEND;TZID=America/Chicago:20240825T120000
DTSTAMP:20260421T115640
CREATED:20221207T164922Z
LAST-MODIFIED:20241106T224650Z
UID:10001638-1724583600-1724587200@srfdfw.org
SUMMARY:Sunday School
DESCRIPTION:
URL:https://srfdfw.org/calendar/sunday-school-1100-am/2024-08-25/
LOCATION:2011 North Britain Road\, Irving\, TX\, 2011 N. Britain Rd.\, Irving\, TX\, 76051\, United States
ORGANIZER;CN="DFW-SRF Meditation Group":MAILTO:connect@srfdallasfortworth.org
END:VEVENT
BEGIN:VEVENT
DTSTART;TZID=America/Chicago:20240825T100000
DTEND;TZID=America/Chicago:20240825T104500
DTSTAMP:20260421T115640
CREATED:20220711T161139Z
LAST-MODIFIED:20250222T174412Z
UID:10001116-1724580000-1724582700@srfdfw.org
SUMMARY:Sunday Meditation Service
DESCRIPTION:Our meditation service is devoted to silent meditation. There is a short inspirational message at the beginning followed by a chant\, then meditation. We also include the World Wide Prayer Circle of SRF members and friends where we pray for world peace and for those who have requested\, physical\, mental\, or spiritual healing.
URL:https://srfdfw.org/calendar/meditation-service-reading-service/2024-08-25/
LOCATION:DFW Meditation Group\, 2011 N. Britain Rd.\, Irving\, TX\, 76051\, United States
ORGANIZER;CN="DFW-SRF Meditation Group":MAILTO:connect@srfdallasfortworth.org
GEO:32.8347664;-96.9448622
X-APPLE-STRUCTURED-LOCATION;VALUE=URI;X-ADDRESS=DFW Meditation Group 2011 N. Britain Rd. Irving TX 76051 United States;X-APPLE-RADIUS=500;X-TITLE=2011 N. Britain Rd.:geo:-96.9448622,32.8347664
END:VEVENT
BEGIN:VEVENT
DTSTART;TZID=America/Chicago:20240821T190000
DTEND;TZID=America/Chicago:20240821T203000
DTSTAMP:20260421T115640
CREATED:20220910T223756Z
LAST-MODIFIED:20250623T133159Z
UID:10000499-1724266800-1724272200@srfdfw.org
SUMMARY:Wednesday Online Meditation
DESCRIPTION:7 pm – 7.15 pm Energization Exercises \n7.20 pm -8.30 Group Meditation with Inspirational-reading\, Chants\, Meditation and Healing Service . \nLink to Join Zoom Meeting: \nhttps://us02web.zoom.us/j/73165306898?pwd=RmZLelBDUWpIT2kvSm9DSWhQVmZKQT09 \nMeeting ID: 731 6530 6898 \nPasscode: 917834
URL:https://srfdfw.org/calendar/wednesday-meditation/2024-08-21/
LOCATION:DFW Meditation Group\, 2011 N. Britain Rd.\, Irving\, TX\, 76051\, United States
GEO:32.8347664;-96.9448622
X-APPLE-STRUCTURED-LOCATION;VALUE=URI;X-ADDRESS=DFW Meditation Group 2011 N. Britain Rd. Irving TX 76051 United States;X-APPLE-RADIUS=500;X-TITLE=2011 N. Britain Rd.:geo:-96.9448622,32.8347664
END:VEVENT
BEGIN:VEVENT
DTSTART;TZID=America/Chicago:20240818T110000
DTEND;TZID=America/Chicago:20240818T120000
DTSTAMP:20260421T115640
CREATED:20221207T164922Z
LAST-MODIFIED:20241106T224650Z
UID:10001637-1723978800-1723982400@srfdfw.org
SUMMARY:Sunday School
DESCRIPTION:
URL:https://srfdfw.org/calendar/sunday-school-1100-am/2024-08-18/
LOCATION:2011 North Britain Road\, Irving\, TX\, 2011 N. Britain Rd.\, Irving\, TX\, 76051\, United States
ORGANIZER;CN="DFW-SRF Meditation Group":MAILTO:connect@srfdallasfortworth.org
END:VEVENT
BEGIN:VEVENT
DTSTART;TZID=America/Chicago:20240818T100000
DTEND;TZID=America/Chicago:20240818T104500
DTSTAMP:20260421T115640
CREATED:20220711T161139Z
LAST-MODIFIED:20250222T174412Z
UID:10001115-1723975200-1723977900@srfdfw.org
SUMMARY:Sunday Meditation Service
DESCRIPTION:Our meditation service is devoted to silent meditation. There is a short inspirational message at the beginning followed by a chant\, then meditation. We also include the World Wide Prayer Circle of SRF members and friends where we pray for world peace and for those who have requested\, physical\, mental\, or spiritual healing.
URL:https://srfdfw.org/calendar/meditation-service-reading-service/2024-08-18/
LOCATION:DFW Meditation Group\, 2011 N. Britain Rd.\, Irving\, TX\, 76051\, United States
ORGANIZER;CN="DFW-SRF Meditation Group":MAILTO:connect@srfdallasfortworth.org
GEO:32.8347664;-96.9448622
X-APPLE-STRUCTURED-LOCATION;VALUE=URI;X-ADDRESS=DFW Meditation Group 2011 N. Britain Rd. Irving TX 76051 United States;X-APPLE-RADIUS=500;X-TITLE=2011 N. Britain Rd.:geo:-96.9448622,32.8347664
END:VEVENT
BEGIN:VEVENT
DTSTART;TZID=America/Chicago:20240814T190000
DTEND;TZID=America/Chicago:20240814T203000
DTSTAMP:20260421T115640
CREATED:20220910T223756Z
LAST-MODIFIED:20250623T133159Z
UID:10000498-1723662000-1723667400@srfdfw.org
SUMMARY:Wednesday Online Meditation
DESCRIPTION:7 pm – 7.15 pm Energization Exercises \n7.20 pm -8.30 Group Meditation with Inspirational-reading\, Chants\, Meditation and Healing Service . \nLink to Join Zoom Meeting: \nhttps://us02web.zoom.us/j/73165306898?pwd=RmZLelBDUWpIT2kvSm9DSWhQVmZKQT09 \nMeeting ID: 731 6530 6898 \nPasscode: 917834
URL:https://srfdfw.org/calendar/wednesday-meditation/2024-08-14/
LOCATION:DFW Meditation Group\, 2011 N. Britain Rd.\, Irving\, TX\, 76051\, United States
GEO:32.8347664;-96.9448622
X-APPLE-STRUCTURED-LOCATION;VALUE=URI;X-ADDRESS=DFW Meditation Group 2011 N. Britain Rd. Irving TX 76051 United States;X-APPLE-RADIUS=500;X-TITLE=2011 N. Britain Rd.:geo:-96.9448622,32.8347664
END:VEVENT
BEGIN:VEVENT
DTSTART;TZID=America/Chicago:20240811T110000
DTEND;TZID=America/Chicago:20240811T120000
DTSTAMP:20260421T115640
CREATED:20221207T164922Z
LAST-MODIFIED:20241106T224650Z
UID:10001636-1723374000-1723377600@srfdfw.org
SUMMARY:Sunday School
DESCRIPTION:
URL:https://srfdfw.org/calendar/sunday-school-1100-am/2024-08-11/
LOCATION:2011 North Britain Road\, Irving\, TX\, 2011 N. Britain Rd.\, Irving\, TX\, 76051\, United States
ORGANIZER;CN="DFW-SRF Meditation Group":MAILTO:connect@srfdallasfortworth.org
END:VEVENT
BEGIN:VEVENT
DTSTART;TZID=America/Chicago:20240811T100000
DTEND;TZID=America/Chicago:20240811T104500
DTSTAMP:20260421T115640
CREATED:20220711T161139Z
LAST-MODIFIED:20250222T174412Z
UID:10001114-1723370400-1723373100@srfdfw.org
SUMMARY:Sunday Meditation Service
DESCRIPTION:Our meditation service is devoted to silent meditation. There is a short inspirational message at the beginning followed by a chant\, then meditation. We also include the World Wide Prayer Circle of SRF members and friends where we pray for world peace and for those who have requested\, physical\, mental\, or spiritual healing.
URL:https://srfdfw.org/calendar/meditation-service-reading-service/2024-08-11/
LOCATION:DFW Meditation Group\, 2011 N. Britain Rd.\, Irving\, TX\, 76051\, United States
ORGANIZER;CN="DFW-SRF Meditation Group":MAILTO:connect@srfdallasfortworth.org
GEO:32.8347664;-96.9448622
X-APPLE-STRUCTURED-LOCATION;VALUE=URI;X-ADDRESS=DFW Meditation Group 2011 N. Britain Rd. Irving TX 76051 United States;X-APPLE-RADIUS=500;X-TITLE=2011 N. Britain Rd.:geo:-96.9448622,32.8347664
END:VEVENT
BEGIN:VEVENT
DTSTART;TZID=America/Chicago:20240807T190000
DTEND;TZID=America/Chicago:20240807T203000
DTSTAMP:20260421T115640
CREATED:20220910T223756Z
LAST-MODIFIED:20250623T133159Z
UID:10000497-1723057200-1723062600@srfdfw.org
SUMMARY:Wednesday Online Meditation
DESCRIPTION:7 pm – 7.15 pm Energization Exercises \n7.20 pm -8.30 Group Meditation with Inspirational-reading\, Chants\, Meditation and Healing Service . \nLink to Join Zoom Meeting: \nhttps://us02web.zoom.us/j/73165306898?pwd=RmZLelBDUWpIT2kvSm9DSWhQVmZKQT09 \nMeeting ID: 731 6530 6898 \nPasscode: 917834
URL:https://srfdfw.org/calendar/wednesday-meditation/2024-08-07/
LOCATION:DFW Meditation Group\, 2011 N. Britain Rd.\, Irving\, TX\, 76051\, United States
GEO:32.8347664;-96.9448622
X-APPLE-STRUCTURED-LOCATION;VALUE=URI;X-ADDRESS=DFW Meditation Group 2011 N. Britain Rd. Irving TX 76051 United States;X-APPLE-RADIUS=500;X-TITLE=2011 N. Britain Rd.:geo:-96.9448622,32.8347664
END:VEVENT
BEGIN:VEVENT
DTSTART;TZID=America/Chicago:20240804T110000
DTEND;TZID=America/Chicago:20240804T120000
DTSTAMP:20260421T115640
CREATED:20221207T164922Z
LAST-MODIFIED:20241106T224650Z
UID:10001635-1722769200-1722772800@srfdfw.org
SUMMARY:Sunday School
DESCRIPTION:
URL:https://srfdfw.org/calendar/sunday-school-1100-am/2024-08-04/
LOCATION:2011 North Britain Road\, Irving\, TX\, 2011 N. Britain Rd.\, Irving\, TX\, 76051\, United States
ORGANIZER;CN="DFW-SRF Meditation Group":MAILTO:connect@srfdallasfortworth.org
END:VEVENT
BEGIN:VEVENT
DTSTART;TZID=America/Chicago:20240804T100000
DTEND;TZID=America/Chicago:20240804T104500
DTSTAMP:20260421T115640
CREATED:20220711T161139Z
LAST-MODIFIED:20250222T174412Z
UID:10001113-1722765600-1722768300@srfdfw.org
SUMMARY:Sunday Meditation Service
DESCRIPTION:Our meditation service is devoted to silent meditation. There is a short inspirational message at the beginning followed by a chant\, then meditation. We also include the World Wide Prayer Circle of SRF members and friends where we pray for world peace and for those who have requested\, physical\, mental\, or spiritual healing.
URL:https://srfdfw.org/calendar/meditation-service-reading-service/2024-08-04/
LOCATION:DFW Meditation Group\, 2011 N. Britain Rd.\, Irving\, TX\, 76051\, United States
ORGANIZER;CN="DFW-SRF Meditation Group":MAILTO:connect@srfdallasfortworth.org
GEO:32.8347664;-96.9448622
X-APPLE-STRUCTURED-LOCATION;VALUE=URI;X-ADDRESS=DFW Meditation Group 2011 N. Britain Rd. Irving TX 76051 United States;X-APPLE-RADIUS=500;X-TITLE=2011 N. Britain Rd.:geo:-96.9448622,32.8347664
END:VEVENT
BEGIN:VEVENT
DTSTART;TZID=America/Chicago:20240731T190000
DTEND;TZID=America/Chicago:20240731T203000
DTSTAMP:20260421T115640
CREATED:20220910T223756Z
LAST-MODIFIED:20250623T133159Z
UID:10000496-1722452400-1722457800@srfdfw.org
SUMMARY:Wednesday Online Meditation
DESCRIPTION:7 pm – 7.15 pm Energization Exercises \n7.20 pm -8.30 Group Meditation with Inspirational-reading\, Chants\, Meditation and Healing Service . \nLink to Join Zoom Meeting: \nhttps://us02web.zoom.us/j/73165306898?pwd=RmZLelBDUWpIT2kvSm9DSWhQVmZKQT09 \nMeeting ID: 731 6530 6898 \nPasscode: 917834
URL:https://srfdfw.org/calendar/wednesday-meditation/2024-07-31/
LOCATION:DFW Meditation Group\, 2011 N. Britain Rd.\, Irving\, TX\, 76051\, United States
GEO:32.8347664;-96.9448622
X-APPLE-STRUCTURED-LOCATION;VALUE=URI;X-ADDRESS=DFW Meditation Group 2011 N. Britain Rd. Irving TX 76051 United States;X-APPLE-RADIUS=500;X-TITLE=2011 N. Britain Rd.:geo:-96.9448622,32.8347664
END:VEVENT
BEGIN:VEVENT
DTSTART;TZID=America/Chicago:20240728T110000
DTEND;TZID=America/Chicago:20240728T120000
DTSTAMP:20260421T115640
CREATED:20221207T164922Z
LAST-MODIFIED:20241106T224650Z
UID:10001634-1722164400-1722168000@srfdfw.org
SUMMARY:Sunday School
DESCRIPTION:
URL:https://srfdfw.org/calendar/sunday-school-1100-am/2024-07-28/
LOCATION:2011 North Britain Road\, Irving\, TX\, 2011 N. Britain Rd.\, Irving\, TX\, 76051\, United States
ORGANIZER;CN="DFW-SRF Meditation Group":MAILTO:connect@srfdallasfortworth.org
END:VEVENT
BEGIN:VEVENT
DTSTART;TZID=America/Chicago:20240728T100000
DTEND;TZID=America/Chicago:20240728T104500
DTSTAMP:20260421T115640
CREATED:20220711T161139Z
LAST-MODIFIED:20250222T174412Z
UID:10001112-1722160800-1722163500@srfdfw.org
SUMMARY:Sunday Meditation Service
DESCRIPTION:Our meditation service is devoted to silent meditation. There is a short inspirational message at the beginning followed by a chant\, then meditation. We also include the World Wide Prayer Circle of SRF members and friends where we pray for world peace and for those who have requested\, physical\, mental\, or spiritual healing.
URL:https://srfdfw.org/calendar/meditation-service-reading-service/2024-07-28/
LOCATION:DFW Meditation Group\, 2011 N. Britain Rd.\, Irving\, TX\, 76051\, United States
ORGANIZER;CN="DFW-SRF Meditation Group":MAILTO:connect@srfdallasfortworth.org
GEO:32.8347664;-96.9448622
X-APPLE-STRUCTURED-LOCATION;VALUE=URI;X-ADDRESS=DFW Meditation Group 2011 N. Britain Rd. Irving TX 76051 United States;X-APPLE-RADIUS=500;X-TITLE=2011 N. Britain Rd.:geo:-96.9448622,32.8347664
END:VEVENT
BEGIN:VEVENT
DTSTART;TZID=America/Chicago:20240724T190000
DTEND;TZID=America/Chicago:20240724T203000
DTSTAMP:20260421T115640
CREATED:20220910T223756Z
LAST-MODIFIED:20250623T133159Z
UID:10000495-1721847600-1721853000@srfdfw.org
SUMMARY:Wednesday Online Meditation
DESCRIPTION:7 pm – 7.15 pm Energization Exercises \n7.20 pm -8.30 Group Meditation with Inspirational-reading\, Chants\, Meditation and Healing Service . \nLink to Join Zoom Meeting: \nhttps://us02web.zoom.us/j/73165306898?pwd=RmZLelBDUWpIT2kvSm9DSWhQVmZKQT09 \nMeeting ID: 731 6530 6898 \nPasscode: 917834
URL:https://srfdfw.org/calendar/wednesday-meditation/2024-07-24/
LOCATION:DFW Meditation Group\, 2011 N. Britain Rd.\, Irving\, TX\, 76051\, United States
GEO:32.8347664;-96.9448622
X-APPLE-STRUCTURED-LOCATION;VALUE=URI;X-ADDRESS=DFW Meditation Group 2011 N. Britain Rd. Irving TX 76051 United States;X-APPLE-RADIUS=500;X-TITLE=2011 N. Britain Rd.:geo:-96.9448622,32.8347664
END:VEVENT
BEGIN:VEVENT
DTSTART;TZID=America/Chicago:20240721T110000
DTEND;TZID=America/Chicago:20240721T120000
DTSTAMP:20260421T115640
CREATED:20221207T164922Z
LAST-MODIFIED:20241106T224650Z
UID:10001633-1721559600-1721563200@srfdfw.org
SUMMARY:Sunday School
DESCRIPTION:
URL:https://srfdfw.org/calendar/sunday-school-1100-am/2024-07-21/
LOCATION:2011 North Britain Road\, Irving\, TX\, 2011 N. Britain Rd.\, Irving\, TX\, 76051\, United States
ORGANIZER;CN="DFW-SRF Meditation Group":MAILTO:connect@srfdallasfortworth.org
END:VEVENT
BEGIN:VEVENT
DTSTART;TZID=America/Chicago:20240721T100000
DTEND;TZID=America/Chicago:20240721T104500
DTSTAMP:20260421T115640
CREATED:20220711T161139Z
LAST-MODIFIED:20250222T174412Z
UID:10001111-1721556000-1721558700@srfdfw.org
SUMMARY:Sunday Meditation Service
DESCRIPTION:Our meditation service is devoted to silent meditation. There is a short inspirational message at the beginning followed by a chant\, then meditation. We also include the World Wide Prayer Circle of SRF members and friends where we pray for world peace and for those who have requested\, physical\, mental\, or spiritual healing.
URL:https://srfdfw.org/calendar/meditation-service-reading-service/2024-07-21/
LOCATION:DFW Meditation Group\, 2011 N. Britain Rd.\, Irving\, TX\, 76051\, United States
ORGANIZER;CN="DFW-SRF Meditation Group":MAILTO:connect@srfdallasfortworth.org
GEO:32.8347664;-96.9448622
X-APPLE-STRUCTURED-LOCATION;VALUE=URI;X-ADDRESS=DFW Meditation Group 2011 N. Britain Rd. Irving TX 76051 United States;X-APPLE-RADIUS=500;X-TITLE=2011 N. Britain Rd.:geo:-96.9448622,32.8347664
END:VEVENT
END:VCALENDAR